BEGIN:VCALENDAR
VERSION:2.0
PRODID:-//Allegan Area Chamber - ECPv6.15.20//NONSGML v1.0//EN
CALSCALE:GREGORIAN
METHOD:PUBLISH
X-ORIGINAL-URL:https://alleganchamber.org
X-WR-CALDESC:Events for Allegan Area Chamber
REFRESH-INTERVAL;VALUE=DURATION:PT1H
X-Robots-Tag:noindex
X-PUBLISHED-TTL:PT1H
BEGIN:VTIMEZONE
TZID:America/Detroit
BEGIN:DAYLIGHT
TZOFFSETFROM:-0500
TZOFFSETTO:-0400
TZNAME:EDT
DTSTART:20220313T070000
END:DAYLIGHT
BEGIN:STANDARD
TZOFFSETFROM:-0400
TZOFFSETTO:-0500
TZNAME:EST
DTSTART:20221106T060000
END:STANDARD
BEGIN:DAYLIGHT
TZOFFSETFROM:-0500
TZOFFSETTO:-0400
TZNAME:EDT
DTSTART:20230312T070000
END:DAYLIGHT
BEGIN:STANDARD
TZOFFSETFROM:-0400
TZOFFSETTO:-0500
TZNAME:EST
DTSTART:20231105T060000
END:STANDARD
BEGIN:DAYLIGHT
TZOFFSETFROM:-0500
TZOFFSETTO:-0400
TZNAME:EDT
DTSTART:20240310T070000
END:DAYLIGHT
BEGIN:STANDARD
TZOFFSETFROM:-0400
TZOFFSETTO:-0500
TZNAME:EST
DTSTART:20241103T060000
END:STANDARD
END:VTIMEZONE
BEGIN:VEVENT
DTSTART;TZID=America/Detroit:20230721T190000
DTEND;TZID=America/Detroit:20230721T210000
DTSTAMP:20260425T085401
CREATED:20230720T201358Z
LAST-MODIFIED:20230720T201358Z
UID:14308-1689966000-1689973200@alleganchamber.org
SUMMARY:Rollin' on the River- Full Cord
DESCRIPTION:Full Cord is following in the footsteps of fellow Michigan bluegrass icons Billy Strings and Greensky Bluegrass as yet another star in the making. Don’t miss their triumphant return to Rollin’ on the River this Friday at 7pm! \nInvite a friend\, bring a chair\, grab an #AlleganSoDi drink from a local establishment (if that’s your thing) and enjoy free live music along the Riverfront! \nLearn more about the band: fullcord.net
URL:https://alleganchamber.org/event/rollin-on-the-river-full-cord/
LOCATION:Allegan Riverfront Stage\, Allegan\, MI\, 49010\, United States
END:VEVENT
END:VCALENDAR