BEGIN:VCALENDAR
VERSION:2.0
PRODID:-//Allegan Area Chamber - ECPv6.15.20//NONSGML v1.0//EN
CALSCALE:GREGORIAN
METHOD:PUBLISH
X-WR-CALNAME:Allegan Area Chamber
X-ORIGINAL-URL:https://alleganchamber.org
X-WR-CALDESC:Events for Allegan Area Chamber
REFRESH-INTERVAL;VALUE=DURATION:PT1H
X-Robots-Tag:noindex
X-PUBLISHED-TTL:PT1H
BEGIN:VTIMEZONE
TZID:America/Detroit
BEGIN:DAYLIGHT
TZOFFSETFROM:-0500
TZOFFSETTO:-0400
TZNAME:EDT
DTSTART:20220313T070000
END:DAYLIGHT
BEGIN:STANDARD
TZOFFSETFROM:-0400
TZOFFSETTO:-0500
TZNAME:EST
DTSTART:20221106T060000
END:STANDARD
BEGIN:DAYLIGHT
TZOFFSETFROM:-0500
TZOFFSETTO:-0400
TZNAME:EDT
DTSTART:20230312T070000
END:DAYLIGHT
BEGIN:STANDARD
TZOFFSETFROM:-0400
TZOFFSETTO:-0500
TZNAME:EST
DTSTART:20231105T060000
END:STANDARD
BEGIN:DAYLIGHT
TZOFFSETFROM:-0500
TZOFFSETTO:-0400
TZNAME:EDT
DTSTART:20240310T070000
END:DAYLIGHT
BEGIN:STANDARD
TZOFFSETFROM:-0400
TZOFFSETTO:-0500
TZNAME:EST
DTSTART:20241103T060000
END:STANDARD
END:VTIMEZONE
BEGIN:VEVENT
DTSTART;TZID=America/Detroit:20230816T090000
DTEND;TZID=America/Detroit:20230820T220000
DTSTAMP:20260425T141044
CREATED:20230724T174629Z
LAST-MODIFIED:20230724T174629Z
UID:14375-1692176400-1692568800@alleganchamber.org
SUMMARY:Michigan Fiber Festival
DESCRIPTION:Festival Dates: August 16-20\, 2023\nWednesday through Sunday- Workshops (pre-registration preferred\, walk-in registration available for open slots.) Half day workshops 9am-12pm & 1pm-4pm.  Full day workshops 9 am to 4 pm with a lunch hour.\nFriday and Saturday- all vendors open from 10 am to 5 pm for shopping.\nSunday – all vendors open from 10am to 4pm for shopping.\nSaturday and Sunday – Full Festival schedule including competitions\, demonstrations\, animals and more.\nFood vendors and camping are available on the Fairgrounds!\n\n\nFestival Admission Fees\nCHILDREN 14 AND UNDER ARE FREE \n• One Day pass for Friday\, Saturday or Sunday: $5.00\n• Weekend Pass for all 3 days: $10.00\n\nFriday and Saturday workshop participants will receive passes if they have classes that day. All animal show exhibitors\, weekend campers\, vendors\, and volunteers will be issued passes.
URL:https://alleganchamber.org/event/michigan-fiber-festival-5/
LOCATION:Allegan County Fairgrounds\, 150 Douglas St\, Allegan\, MI\, 49010\, United States
ORGANIZER;CN="Michigan Fiber Fesitval":MAILTO:staff@michiganfiberfestival.info
END:VEVENT
BEGIN:VEVENT
DTSTART;TZID=America/Detroit:20230817T080000
DTEND;TZID=America/Detroit:20230817T140000
DTSTAMP:20260425T141044
CREATED:20230726T195715Z
LAST-MODIFIED:20230726T195715Z
UID:14436-1692259200-1692280800@alleganchamber.org
SUMMARY:Allegan Farmers Market
DESCRIPTION:
URL:https://alleganchamber.org/event/allegan-farmers-market-4/
LOCATION:Downtown Allegan
END:VEVENT
END:VCALENDAR