BEGIN:VCALENDAR
VERSION:2.0
PRODID:-//Allegan Area Chamber - ECPv6.15.20//NONSGML v1.0//EN
CALSCALE:GREGORIAN
METHOD:PUBLISH
X-WR-CALNAME:Allegan Area Chamber
X-ORIGINAL-URL:https://alleganchamber.org
X-WR-CALDESC:Events for Allegan Area Chamber
REFRESH-INTERVAL;VALUE=DURATION:PT1H
X-Robots-Tag:noindex
X-PUBLISHED-TTL:PT1H
BEGIN:VTIMEZONE
TZID:America/Detroit
BEGIN:DAYLIGHT
TZOFFSETFROM:-0500
TZOFFSETTO:-0400
TZNAME:EDT
DTSTART:20220313T070000
END:DAYLIGHT
BEGIN:STANDARD
TZOFFSETFROM:-0400
TZOFFSETTO:-0500
TZNAME:EST
DTSTART:20221106T060000
END:STANDARD
BEGIN:DAYLIGHT
TZOFFSETFROM:-0500
TZOFFSETTO:-0400
TZNAME:EDT
DTSTART:20230312T070000
END:DAYLIGHT
BEGIN:STANDARD
TZOFFSETFROM:-0400
TZOFFSETTO:-0500
TZNAME:EST
DTSTART:20231105T060000
END:STANDARD
BEGIN:DAYLIGHT
TZOFFSETFROM:-0500
TZOFFSETTO:-0400
TZNAME:EDT
DTSTART:20240310T070000
END:DAYLIGHT
BEGIN:STANDARD
TZOFFSETFROM:-0400
TZOFFSETTO:-0500
TZNAME:EST
DTSTART:20241103T060000
END:STANDARD
END:VTIMEZONE
BEGIN:VEVENT
DTSTART;TZID=America/Detroit:20230902T100000
DTEND;TZID=America/Detroit:20230902T113000
DTSTAMP:20260425T153825
CREATED:20230825T162625Z
LAST-MODIFIED:20230825T162625Z
UID:14565-1693648800-1693654200@alleganchamber.org
SUMMARY:Plant Swap
DESCRIPTION:Join fellow gardeners for a plant swap! Bring cuttings\, propagations\, entire plants\, and seeds to swap. Meet other green thumbs and go home with new things to grow. \nNo registration required.
URL:https://alleganchamber.org/event/plant-swap/
LOCATION:Allegan District Library\, 331 Hubbard Street\, Allegan\, MI\, 49010\, United States
END:VEVENT
BEGIN:VEVENT
DTSTART;TZID=America/Detroit:20230902T100000
DTEND;TZID=America/Detroit:20230902T140000
DTSTAMP:20260425T153825
CREATED:20230825T165317Z
LAST-MODIFIED:20230825T165317Z
UID:14575-1693648800-1693663200@alleganchamber.org
SUMMARY:Drone Club
DESCRIPTION:Join fellow drone enthusiasts for fun flying and obstacle courses. Bring your own drone or borrow one of ours. All ages are invited. No registration required.
URL:https://alleganchamber.org/event/drone-club/
LOCATION:Allegan District Library\, 331 Hubbard Street\, Allegan\, MI\, 49010\, United States
END:VEVENT
BEGIN:VEVENT
DTSTART;TZID=America/Detroit:20230902T140000
DTEND;TZID=America/Detroit:20230902T153000
DTSTAMP:20260425T153825
CREATED:20230825T163244Z
LAST-MODIFIED:20230825T163244Z
UID:14569-1693663200-1693668600@alleganchamber.org
SUMMARY:Beekeeping 101
DESCRIPTION:Join local beekeeper Ned Stacey to learn all about starting your first hive. This program is perfect for those wanting to try beekeeping or those who just want to know more about these fantastic pollinators. Attend one or both sessions. \nNo registration required.
URL:https://alleganchamber.org/event/beekeeping-101/
LOCATION:Allegan District Library\, 331 Hubbard Street\, Allegan\, MI\, 49010\, United States
END:VEVENT
END:VCALENDAR