BEGIN:VCALENDAR
VERSION:2.0
PRODID:-//Allegan Area Chamber - ECPv6.15.20//NONSGML v1.0//EN
CALSCALE:GREGORIAN
METHOD:PUBLISH
X-ORIGINAL-URL:https://alleganchamber.org
X-WR-CALDESC:Events for Allegan Area Chamber
REFRESH-INTERVAL;VALUE=DURATION:PT1H
X-Robots-Tag:noindex
X-PUBLISHED-TTL:PT1H
BEGIN:VTIMEZONE
TZID:America/Detroit
BEGIN:DAYLIGHT
TZOFFSETFROM:-0500
TZOFFSETTO:-0400
TZNAME:EDT
DTSTART:20250309T070000
END:DAYLIGHT
BEGIN:STANDARD
TZOFFSETFROM:-0400
TZOFFSETTO:-0500
TZNAME:EST
DTSTART:20251102T060000
END:STANDARD
BEGIN:DAYLIGHT
TZOFFSETFROM:-0500
TZOFFSETTO:-0400
TZNAME:EDT
DTSTART:20260308T070000
END:DAYLIGHT
BEGIN:STANDARD
TZOFFSETFROM:-0400
TZOFFSETTO:-0500
TZNAME:EST
DTSTART:20261101T060000
END:STANDARD
BEGIN:DAYLIGHT
TZOFFSETFROM:-0500
TZOFFSETTO:-0400
TZNAME:EDT
DTSTART:20270314T070000
END:DAYLIGHT
BEGIN:STANDARD
TZOFFSETFROM:-0400
TZOFFSETTO:-0500
TZNAME:EST
DTSTART:20271107T060000
END:STANDARD
END:VTIMEZONE
BEGIN:VEVENT
DTSTART;TZID=America/Detroit:20260611T080000
DTEND;TZID=America/Detroit:20260611T163000
DTSTAMP:20260424T195733
CREATED:20260324T235637Z
LAST-MODIFIED:20260414T212815Z
UID:18227-1781164800-1781195400@alleganchamber.org
SUMMARY:2026 Chamber Classic Golf Tournament
DESCRIPTION:Anyone wishing to sign up a team or become a sponsor can download the forms: \nGolf Sponsorship Packet 2026 \nIt’s time again for the annual Allegan Area Chamber of Commerce Chamber Classic Golf Tournament! \nThe 2026 Chamber Classic will be held at Cheshire Hills Golf Course on June 11\, and teams may register to play until June 5. \nThis year marks the 32nd Annual Chamber Classic Golf Tournament and the Chamber hopes many teams will come out to play.  Not only is this a great day out of the office\, but it enables businesses to connect with the golfers and bring everyone together\, so we are eager to get as many businesses and non-profits together as possible. \nIn addition to Chipping-In and Closest to Pin events at several holes\, golfers have many other opportunities to win cash or prizes on holes such as Longest Drive\, Hole in one\, Longest Putt\, and additional surprises in store. \nIn addition to having an activity at most holes\, golfers can also participate in a 50/50 raffle and a lottery tree. \nVolunteers are always needed and anyone interested may contact the Chamber at 269-673-2479.
URL:https://alleganchamber.org/event/chamber-classic-golf-tournament/
LOCATION:Cheshire Hills Golf Course\, 3829 102nd Ave\, Allegan\, MI\, 49010
CATEGORIES:Chamber Events,Golf
ATTACH;FMTTYPE=image/png:https://alleganchamber.org/wp-content/uploads/2026/03/Golf-no-QR.png
ORGANIZER;CN="Allegan Area Chamber of Commerce":MAILTO:director@alleganchamber.com
END:VEVENT
END:VCALENDAR