BEGIN:VCALENDAR
VERSION:2.0
PRODID:-//Allegan Area Chamber - ECPv6.15.20//NONSGML v1.0//EN
CALSCALE:GREGORIAN
METHOD:PUBLISH
X-ORIGINAL-URL:https://alleganchamber.org
X-WR-CALDESC:Events for Allegan Area Chamber
REFRESH-INTERVAL;VALUE=DURATION:PT1H
X-Robots-Tag:noindex
X-PUBLISHED-TTL:PT1H
BEGIN:VTIMEZONE
TZID:America/Detroit
BEGIN:DAYLIGHT
TZOFFSETFROM:-0500
TZOFFSETTO:-0400
TZNAME:EDT
DTSTART:20170312T070000
END:DAYLIGHT
BEGIN:STANDARD
TZOFFSETFROM:-0400
TZOFFSETTO:-0500
TZNAME:EST
DTSTART:20171105T060000
END:STANDARD
BEGIN:DAYLIGHT
TZOFFSETFROM:-0500
TZOFFSETTO:-0400
TZNAME:EDT
DTSTART:20180311T070000
END:DAYLIGHT
BEGIN:STANDARD
TZOFFSETFROM:-0400
TZOFFSETTO:-0500
TZNAME:EST
DTSTART:20181104T060000
END:STANDARD
BEGIN:DAYLIGHT
TZOFFSETFROM:-0500
TZOFFSETTO:-0400
TZNAME:EDT
DTSTART:20190310T070000
END:DAYLIGHT
BEGIN:STANDARD
TZOFFSETFROM:-0400
TZOFFSETTO:-0500
TZNAME:EST
DTSTART:20191103T060000
END:STANDARD
END:VTIMEZONE
BEGIN:VEVENT
DTSTART;TZID=America/Detroit:20180928T140000
DTEND;TZID=America/Detroit:20180928T180000
DTSTAMP:20260421T103416
CREATED:20180801T131548Z
LAST-MODIFIED:20180913T125838Z
UID:7856-1538143200-1538157600@alleganchamber.org
SUMMARY:Car Show & Block Party @ Ely Manor
DESCRIPTION:
URL:https://alleganchamber.org/event/car-show-block-party-ely-manor/
LOCATION:Ely Manor\, 1200 Ely St\, Allegan\, MI\, 49010\, United States
CATEGORIES:Chamber Member Event
ATTACH;FMTTYPE=image/jpeg:https://alleganchamber.org/wp-content/uploads/2018/08/Ely-Car-Show-2018-1.jpg
END:VEVENT
END:VCALENDAR