BEGIN:VCALENDAR
VERSION:2.0
PRODID:-//Allegan Area Chamber - ECPv6.15.20//NONSGML v1.0//EN
CALSCALE:GREGORIAN
METHOD:PUBLISH
X-ORIGINAL-URL:https://alleganchamber.org
X-WR-CALDESC:Events for Allegan Area Chamber
REFRESH-INTERVAL;VALUE=DURATION:PT1H
X-Robots-Tag:noindex
X-PUBLISHED-TTL:PT1H
BEGIN:VTIMEZONE
TZID:America/Detroit
BEGIN:DAYLIGHT
TZOFFSETFROM:-0500
TZOFFSETTO:-0400
TZNAME:EDT
DTSTART:20170312T070000
END:DAYLIGHT
BEGIN:STANDARD
TZOFFSETFROM:-0400
TZOFFSETTO:-0500
TZNAME:EST
DTSTART:20171105T060000
END:STANDARD
BEGIN:DAYLIGHT
TZOFFSETFROM:-0500
TZOFFSETTO:-0400
TZNAME:EDT
DTSTART:20180311T070000
END:DAYLIGHT
BEGIN:STANDARD
TZOFFSETFROM:-0400
TZOFFSETTO:-0500
TZNAME:EST
DTSTART:20181104T060000
END:STANDARD
BEGIN:DAYLIGHT
TZOFFSETFROM:-0500
TZOFFSETTO:-0400
TZNAME:EDT
DTSTART:20190310T070000
END:DAYLIGHT
BEGIN:STANDARD
TZOFFSETFROM:-0400
TZOFFSETTO:-0500
TZNAME:EST
DTSTART:20191103T060000
END:STANDARD
END:VTIMEZONE
BEGIN:VEVENT
DTSTART;TZID=America/Detroit:20181009T190000
DTEND;TZID=America/Detroit:20181009T203000
DTSTAMP:20260421T040226
CREATED:20180827T173903Z
LAST-MODIFIED:20180827T173903Z
UID:7912-1539111600-1539117000@alleganchamber.org
SUMMARY:Ghostly Beacons
DESCRIPTION:What is it about lighthouses that attract ghostly spirits? In this program\, Dianna Stampfler will regale us with stories from the nearly two dozen lights in Michigan that are rumored to be haunted. From the smell of cigar smoke at Seul Choix Point Light to the mysterious housekeeping at White River Light Station and the antics at Waugoshance Shoal\, these stories will entertain all ages.  Registration required; call 269-673-4625.
URL:https://alleganchamber.org/event/ghostly-beacons/
LOCATION:Griswold Auditorium\, 401 Hubbard St.\, Allegan\, MI\, 49010\, United States
CATEGORIES:Chamber Member Event
ATTACH;FMTTYPE=image/jpeg:https://alleganchamber.org/wp-content/uploads/2018/08/Ghostly-Beacons.jpg
END:VEVENT
END:VCALENDAR