BEGIN:VCALENDAR
VERSION:2.0
PRODID:-//Allegan Area Chamber - ECPv6.15.20//NONSGML v1.0//EN
CALSCALE:GREGORIAN
METHOD:PUBLISH
X-ORIGINAL-URL:https://alleganchamber.org
X-WR-CALDESC:Events for Allegan Area Chamber
REFRESH-INTERVAL;VALUE=DURATION:PT1H
X-Robots-Tag:noindex
X-PUBLISHED-TTL:PT1H
BEGIN:VTIMEZONE
TZID:America/Detroit
BEGIN:DAYLIGHT
TZOFFSETFROM:-0500
TZOFFSETTO:-0400
TZNAME:EDT
DTSTART:20180311T070000
END:DAYLIGHT
BEGIN:STANDARD
TZOFFSETFROM:-0400
TZOFFSETTO:-0500
TZNAME:EST
DTSTART:20181104T060000
END:STANDARD
BEGIN:DAYLIGHT
TZOFFSETFROM:-0500
TZOFFSETTO:-0400
TZNAME:EDT
DTSTART:20190310T070000
END:DAYLIGHT
BEGIN:STANDARD
TZOFFSETFROM:-0400
TZOFFSETTO:-0500
TZNAME:EST
DTSTART:20191103T060000
END:STANDARD
BEGIN:DAYLIGHT
TZOFFSETFROM:-0500
TZOFFSETTO:-0400
TZNAME:EDT
DTSTART:20200308T070000
END:DAYLIGHT
BEGIN:STANDARD
TZOFFSETFROM:-0400
TZOFFSETTO:-0500
TZNAME:EST
DTSTART:20201101T060000
END:STANDARD
BEGIN:DAYLIGHT
TZOFFSETFROM:-0500
TZOFFSETTO:-0400
TZNAME:EDT
DTSTART:20210314T070000
END:DAYLIGHT
BEGIN:STANDARD
TZOFFSETFROM:-0400
TZOFFSETTO:-0500
TZNAME:EST
DTSTART:20211107T060000
END:STANDARD
END:VTIMEZONE
BEGIN:VEVENT
DTSTART;TZID=America/Detroit:20191208T100000
DTEND;TZID=America/Detroit:20191208T150000
DTSTAMP:20260423T150656
CREATED:20191113T155202Z
LAST-MODIFIED:20191113T155202Z
UID:9655-1575799200-1575817200@alleganchamber.org
SUMMARY:Christmas Craft Show
DESCRIPTION:
URL:https://alleganchamber.org/event/christmas-craft-show/
LOCATION:Allegan Eagles\, 110 Chestnut St.\, Allegan\, MI\, 49010\, United States
CATEGORIES:Chamber Member Event
ATTACH;FMTTYPE=image/jpeg:https://alleganchamber.org/wp-content/uploads/2019/11/Holiday-Vendor-Show.jpg
END:VEVENT
BEGIN:VEVENT
DTSTART;TZID=America/Detroit:20191213T160000
DTEND;TZID=America/Detroit:20191213T200000
DTSTAMP:20260423T150656
CREATED:20191204T120454Z
LAST-MODIFIED:20191211T124442Z
UID:9699-1576252800-1576267200@alleganchamber.org
SUMMARY:FPC Allegan Christmas Market
DESCRIPTION:
URL:https://alleganchamber.org/event/fpc-allegan-christmas-market/
LOCATION:First Presbyterian Church\, 200 Cutler St\, Allegan\, 49010
CATEGORIES:Chamber Member Event
ATTACH;FMTTYPE=image/jpeg:https://alleganchamber.org/wp-content/uploads/2019/12/Christmas-Market-2019-1.jpg
END:VEVENT
BEGIN:VEVENT
DTSTART;TZID=America/Detroit:20191213T170000
DTEND;TZID=America/Detroit:20191213T203000
DTSTAMP:20260423T150656
CREATED:20191209T142002Z
LAST-MODIFIED:20191211T130846Z
UID:9716-1576256400-1576269000@alleganchamber.org
SUMMARY:Allegan Art Hop
DESCRIPTION:AAAC and the City of Allegan present the 12th annual Allegan Art Hop. As part of December’s “Festive Fridays”\, downtown Allegan becomes an artwork showplace and shopping center.  The date is Dec 13\, from 5:00 PM to 8:30 PM.
URL:https://alleganchamber.org/event/allegan-art-hop/
LOCATION:Downtown Allegan\, Allegan\, MI\, 49010\, United States
CATEGORIES:Chamber Member Event
ATTACH;FMTTYPE=image/jpeg:https://alleganchamber.org/wp-content/uploads/2019/12/ArtHop2019Poster-1.jpg
END:VEVENT
BEGIN:VEVENT
DTSTART;TZID=America/Detroit:20191215T100000
DTEND;TZID=America/Detroit:20191215T140000
DTSTAMP:20260423T150656
CREATED:20191212T124404Z
LAST-MODIFIED:20191212T124552Z
UID:9772-1576404000-1576418400@alleganchamber.org
SUMMARY:Breakfast with Santa
DESCRIPTION:Seatings at 10am\, 11am\, 12pm\, 1pm \n$17 – Adult\n$11 – 12 & under\nUnder 5 free \nSanta appears 11am-1pm \nmuffins\, pastries\, egg scramble\, sausage & gravy\, honey glazed ham\, turkey\, vegetables\, cheesy tots\, chicken bites\, assorted desserts
URL:https://alleganchamber.org/event/breakfast-with-santa/
LOCATION:LYNX Golf Course\, 900 Lincoln Road\, Otsego\, MI\, 49078\, United States
CATEGORIES:Chamber Member Event
ATTACH;FMTTYPE=image/jpeg:https://alleganchamber.org/wp-content/uploads/2019/12/76727003_10157010648988049_6298579263389958144_o.jpg
ORGANIZER;CN="Lynx Golf Course Grill":MAILTO:grill@lynxgc.com
END:VEVENT
BEGIN:VEVENT
DTSTART;TZID=America/Detroit:20200111T183000
DTEND;TZID=America/Detroit:20200111T183000
DTSTAMP:20260423T150656
CREATED:20191219T140912Z
LAST-MODIFIED:20191219T140912Z
UID:9821-1578767400-1578767400@alleganchamber.org
SUMMARY:Comedy @ The Lynx GC
DESCRIPTION:
URL:https://alleganchamber.org/event/comedy-the-lynx-gc/
LOCATION:LYNX Golf Course\, 900 Lincoln Road\, Otsego\, MI\, 49078\, United States
CATEGORIES:Chamber Member Event
ORGANIZER;CN="Lynx Golf Course Grill":MAILTO:grill@lynxgc.com
END:VEVENT
BEGIN:VEVENT
DTSTART;TZID=America/Detroit:20200116T180000
DTEND;TZID=America/Detroit:20200116T203000
DTSTAMP:20260423T150656
CREATED:20191211T130021Z
LAST-MODIFIED:20191211T130021Z
UID:9764-1579197600-1579206600@alleganchamber.org
SUMMARY:Winter WINErland Tasting
DESCRIPTION:Join The Silo & Grill House for a winter wine tasting.  Enjoy a wide variety of wine and beer along with our famous appetizer buffet. \nMore Information and Tickets Here
URL:https://alleganchamber.org/event/winter-winerland-tasting/
LOCATION:The Silo Banquet Facility\, 1071 32nd Street (M-40 South)\, Allegan\, MI\, 49010\, United States
CATEGORIES:Chamber Member Event
ATTACH;FMTTYPE=image/jpeg:https://alleganchamber.org/wp-content/uploads/2019/12/Winter-Wine-Tasting.jpg
END:VEVENT
BEGIN:VEVENT
DTSTART;TZID=America/Detroit:20200122T170000
DTEND;TZID=America/Detroit:20200122T193000
DTSTAMP:20260423T150656
CREATED:20200116T134608Z
LAST-MODIFIED:20200116T142945Z
UID:9856-1579712400-1579721400@alleganchamber.org
SUMMARY:Skilled Trades Fair
DESCRIPTION:
URL:https://alleganchamber.org/event/skilled-trades-fair/
LOCATION:ACATEC: Allegan County Area Technical & Education Center\, 2891 116th Ave (M-222)\, Allegan\, MI\, 49010\, United States
CATEGORIES:Chamber Member Event
ATTACH;FMTTYPE=image/jpeg:https://alleganchamber.org/wp-content/uploads/2020/01/Skilled-Trades-11x17-003-page-001.jpg
END:VEVENT
BEGIN:VEVENT
DTSTART;TZID=America/Detroit:20200127T173000
DTEND;TZID=America/Detroit:20200127T173000
DTSTAMP:20260423T150656
CREATED:20200116T135353Z
LAST-MODIFIED:20200116T135353Z
UID:9860-1580146200-1580146200@alleganchamber.org
SUMMARY:Sparkling Wine & Canvas at Ely Manor
DESCRIPTION:
URL:https://alleganchamber.org/event/sparkling-wine-canvas-at-ely-manor/
LOCATION:Ely Manor\, 1200 Ely St\, Allegan\, MI\, 49010\, United States
CATEGORIES:Chamber Member Event
ATTACH;FMTTYPE=image/jpeg:https://alleganchamber.org/wp-content/uploads/2020/01/Wine-And-Canvas-January-2020-e1579182786555.jpg
END:VEVENT
BEGIN:VEVENT
DTSTART;TZID=America/Detroit:20200128T170000
DTEND;TZID=America/Detroit:20200128T200000
DTSTAMP:20260423T150656
CREATED:20200127T143816Z
LAST-MODIFIED:20200127T143816Z
UID:9911-1580230800-1580241600@alleganchamber.org
SUMMARY:Positive Options Fundraiser
DESCRIPTION:
URL:https://alleganchamber.org/event/positive-options-fundraiser/
LOCATION:Allegan Pizza Hut\, 107 Locust St.\, Allegan\, MI\, 49010\, United States
CATEGORIES:Chamber Member Event
ATTACH;FMTTYPE=application/pdf:https://alleganchamber.org/wp-content/uploads/2020/01/pizzahut-fundraiser_Allegan-2020.pdf
END:VEVENT
BEGIN:VEVENT
DTSTART;TZID=America/Detroit:20200201T090000
DTEND;TZID=America/Detroit:20200201T170000
DTSTAMP:20260423T150656
CREATED:20200108T135746Z
LAST-MODIFIED:20200108T135746Z
UID:9850-1580547600-1580576400@alleganchamber.org
SUMMARY:Snowfest
DESCRIPTION:SnowFest is our annual winter celebration!  The day will start with a pancake and sausage breakfast starting at 9am.  Lunch will also be provided starting at Noon with a menu TBD. \nEvents will consist of a Fun Run\, Prize Raffles\, and a 50/50 drawing. \nCome help us celebrate Winter!!!
URL:https://alleganchamber.org/event/snowfest-2/
LOCATION:Allegan County Snowmobile Club\, 1697 36th Ave.\, Allegan\, 49010\, United States
CATEGORIES:Chamber Member Event
ATTACH;FMTTYPE=image/png:https://alleganchamber.org/wp-content/uploads/2020/01/ACSC-logo.png
END:VEVENT
BEGIN:VEVENT
DTSTART;TZID=America/Detroit:20200204T180000
DTEND;TZID=America/Detroit:20200204T200000
DTSTAMP:20260423T150656
CREATED:20200130T125728Z
LAST-MODIFIED:20200130T125728Z
UID:9939-1580839200-1580846400@alleganchamber.org
SUMMARY:Tech Center Open House
DESCRIPTION:The Allegan Tech Center will be holding an Open House from 6:00 – 8:00 p.m. on February 4. The public is invited to stop by and see what the Tech Center has to offer.
URL:https://alleganchamber.org/event/tech-center-open-house/
LOCATION:AATEC: Allegan County Area Technical & Education Center\, 2891 116th Ave. (M-222)\, Allegan\, MI\, 49010\, United States
CATEGORIES:Chamber Member Event
ATTACH;FMTTYPE=image/jpeg:https://alleganchamber.org/wp-content/uploads/2020/01/Open-House-2020-0204.jpg
END:VEVENT
BEGIN:VEVENT
DTSTART;TZID=America/Detroit:20200208T180000
DTEND;TZID=America/Detroit:20200208T180000
DTSTAMP:20260423T150656
CREATED:20200129T150843Z
LAST-MODIFIED:20200129T150843Z
UID:9920-1581184800-1581184800@alleganchamber.org
SUMMARY:Chili Cook-off & Dessert Auction
DESCRIPTION:Sign-up to bring your favorite chili and/or your favorite dessert.  Proceeds from the auction will benefit CCC K-12 education (camp\, VBS\, Sunday school).  We’ll also play an interactive trivia game.  Each table will be its own team\, competing against the other tables. Please bring your iPad\, Android tablet\, or smartphone.
URL:https://alleganchamber.org/event/chili-cook-off-dessert-auction/
LOCATION:Allegan Christ Community Church\, 3370 113th Ave\, Allegan\, MI\, 49010\, United States
CATEGORIES:Chamber Member Event
ATTACH;FMTTYPE=image/jpeg:https://alleganchamber.org/wp-content/uploads/2020/01/Chili-Cookoff-2020.jpg
END:VEVENT
BEGIN:VEVENT
DTSTART;TZID=America/Detroit:20200212T110000
DTEND;TZID=America/Detroit:20200212T170000
DTSTAMP:20260423T150656
CREATED:20200205T115643Z
LAST-MODIFIED:20200205T115643Z
UID:9991-1581505200-1581526800@alleganchamber.org
SUMMARY:Ascension Allegan Hospital Blood Drive
DESCRIPTION:  \nClick here for an appointment \n 
URL:https://alleganchamber.org/event/ascension-allegan-hospital-blood-drive/
LOCATION:Ascension Borgess Allegan\, 555 Linn St\, Allegan\, MI\, 49010\, United States
CATEGORIES:Chamber Member Event
ATTACH;FMTTYPE=image/jpeg:https://alleganchamber.org/wp-content/uploads/2020/02/Versiti-Blood-2020-02-12.jpg
END:VEVENT
BEGIN:VEVENT
DTSTART;TZID=America/Detroit:20200215T090000
DTEND;TZID=America/Detroit:20200215T120000
DTSTAMP:20260423T150656
CREATED:20200127T134019Z
LAST-MODIFIED:20200127T134019Z
UID:9901-1581757200-1581768000@alleganchamber.org
SUMMARY:Impressionism Painting Class (ages 8 - 13)
DESCRIPTION:Get your young artist(s) signed up now. \n \nAny questions\, please call Judi McCall at 269-673-5095
URL:https://alleganchamber.org/event/impressionism-painting-class-ages-8-13/
LOCATION:Pine Trails Elementary – Allegan Public Schools\, 2950 Center St.\, Allegan\, MI\, 49010\, United States
CATEGORIES:Chamber Member Event
ATTACH;FMTTYPE=image/jpeg:https://alleganchamber.org/wp-content/uploads/2020/01/Impressionism-Childrens-workshop-8.5x11.jpg
END:VEVENT
BEGIN:VEVENT
DTSTART;TZID=America/Detroit:20200215T180000
DTEND;TZID=America/Detroit:20200215T180000
DTSTAMP:20260423T150656
CREATED:20200124T135247Z
LAST-MODIFIED:20200124T135247Z
UID:9895-1581789600-1581789600@alleganchamber.org
SUMMARY:Comedy @ The Lynx - Dave Dyer
DESCRIPTION:
URL:https://alleganchamber.org/event/comedy-the-lynx-dave-dyer/
LOCATION:LYNX Golf Course\, 900 Lincoln Road\, Otsego\, MI\, 49078\, United States
CATEGORIES:Chamber Member Event
ATTACH;FMTTYPE=image/jpeg:https://alleganchamber.org/wp-content/uploads/2020/01/LYNX-2-15-2020-Show-e1579872464400.jpg
ORGANIZER;CN="Lynx Golf Course Grill":MAILTO:grill@lynxgc.com
END:VEVENT
BEGIN:VEVENT
DTSTART;TZID=America/Detroit:20200222T100000
DTEND;TZID=America/Detroit:20200222T130000
DTSTAMP:20260423T150656
CREATED:20200212T142237Z
LAST-MODIFIED:20200212T142237Z
UID:10026-1582365600-1582376400@alleganchamber.org
SUMMARY:Barn Quilt Workshop
DESCRIPTION:
URL:https://alleganchamber.org/event/barn-quilt-workshop/
LOCATION:Otsego Public Library\, 401 Dix St\, Otsego\, MI\, 49010\, United States
CATEGORIES:Chamber Member Event
ATTACH;FMTTYPE=image/jpeg:https://alleganchamber.org/wp-content/uploads/2020/01/Barn-Quilt-Workshop-Blurb-for-eblast-e1580132718744.jpg
END:VEVENT
BEGIN:VEVENT
DTSTART;TZID=America/Detroit:20200225T170000
DTEND;TZID=America/Detroit:20200225T200000
DTSTAMP:20260423T150656
CREATED:20200127T144039Z
LAST-MODIFIED:20200127T144039Z
UID:9914-1582650000-1582660800@alleganchamber.org
SUMMARY:Positive Options Fundraiser
DESCRIPTION:
URL:https://alleganchamber.org/event/positive-options-fundraiser-2/
LOCATION:Allegan Pizza Hut\, 107 Locust St.\, Allegan\, MI\, 49010\, United States
CATEGORIES:Chamber Member Event
ATTACH;FMTTYPE=application/pdf:https://alleganchamber.org/wp-content/uploads/2020/01/pizzahut-fundraiser_Allegan-2020-1.pdf
END:VEVENT
BEGIN:VEVENT
DTSTART;TZID=America/Detroit:20200229T180000
DTEND;TZID=America/Detroit:20200229T180000
DTSTAMP:20260423T150656
CREATED:20200227T135126Z
LAST-MODIFIED:20200227T135126Z
UID:10094-1582999200-1582999200@alleganchamber.org
SUMMARY:Mardi Gras Party @ The Eagles
DESCRIPTION:
URL:https://alleganchamber.org/event/mardi-gras-party-the-eagles/
LOCATION:Allegan Eagles\, 110 Chestnut St.\, Allegan\, MI\, 49010\, United States
CATEGORIES:Chamber Member Event
ATTACH;FMTTYPE=image/jpeg:https://alleganchamber.org/wp-content/uploads/2020/02/87287454_225923345244603_8177952940896550912_n.jpg
END:VEVENT
BEGIN:VEVENT
DTSTART;TZID=America/Detroit:20200307T180000
DTEND;TZID=America/Detroit:20200307T180000
DTSTAMP:20260423T150656
CREATED:20200226T125053Z
LAST-MODIFIED:20200304T162928Z
UID:10073-1583604000-1583604000@alleganchamber.org
SUMMARY:Comedy @ The Lynx
DESCRIPTION:
URL:https://alleganchamber.org/event/comedy-the-lynx-3/
LOCATION:LYNX Golf Course\, 900 Lincoln Road\, Otsego\, MI\, 49078\, United States
CATEGORIES:Chamber Member Event
ATTACH;FMTTYPE=image/jpeg:https://alleganchamber.org/wp-content/uploads/2020/02/Lynx-3-7-20-Sold-Out.jpg
ORGANIZER;CN="Lynx Golf Course Grill":MAILTO:grill@lynxgc.com
END:VEVENT
BEGIN:VEVENT
DTSTART;TZID=America/Detroit:20200310T183000
DTEND;TZID=America/Detroit:20200310T203000
DTSTAMP:20260423T150656
CREATED:20200220T135719Z
LAST-MODIFIED:20200220T135719Z
UID:10038-1583865000-1583872200@alleganchamber.org
SUMMARY:No Small Matter Documentary Viewing
DESCRIPTION:OUR FUTURE DEPENDS ON OUR YOUNGEST CITIZENS. ON HOW MANY WORDS THEY HEAR IN THEIR FIRST MONTHS OF LIFE. ON HOW OFTEN THEY ARE HELD. ON THE KINDS OF EXPERIENCES THEY HAVE. \nThis multifaceted project reveals how our country is raising its youngest citizens\, why making the most of this time in their lives is so crucial\, and most importantly\, what we  an do to change the perception of when learning begins. The first major theatrical documentary to tackle this topic\, No Small Matter is designed to kick-start the public conversation about early care and education.
URL:https://alleganchamber.org/event/no-small-matter-documentary-viewing/
LOCATION:AAESA Educational Service Center\, 310 Thomas St.\, Allegan\, MI\, 49010\, United States
CATEGORIES:Chamber Member Event
ATTACH;FMTTYPE=image/jpeg:https://alleganchamber.org/wp-content/uploads/2020/02/No-Small-Matters-Flier-e1582207015789.jpg
END:VEVENT
BEGIN:VEVENT
DTSTART;TZID=America/Detroit:20200312T190000
DTEND;TZID=America/Detroit:20200312T190000
DTSTAMP:20260423T150656
CREATED:20200312T132228Z
LAST-MODIFIED:20200312T132228Z
UID:10162-1584039600-1584039600@alleganchamber.org
SUMMARY:AHS Drama presents . . .
DESCRIPTION:
URL:https://alleganchamber.org/event/ahs-drama-presents/
LOCATION:Allegan High School Performing Arts Center\, 1560\, M-40 North\, MI\, 49010\, United States
CATEGORIES:Chamber Member Event
ATTACH;FMTTYPE=image/jpeg:https://alleganchamber.org/wp-content/uploads/2020/03/Anne-Frank.jpg
END:VEVENT
BEGIN:VEVENT
DTSTART;TZID=America/Detroit:20200313T190000
DTEND;TZID=America/Detroit:20200313T190000
DTSTAMP:20260423T150656
CREATED:20200122T120037Z
LAST-MODIFIED:20200122T120037Z
UID:9878-1584126000-1584126000@alleganchamber.org
SUMMARY:35th Cabaret Band Show
DESCRIPTION:The Cabaret Band Show is the longest-running variety show in Allegan County.  Charging into its 35th year with just as much excitement as it’s first\, Cabaret goers will enjoy a night of high-energy entertainment performed by some of the best musicians in Southwest Michigan. \nHeld in the historic Griswold Auditorium in downtown Allegan\, Michigan\, The Cabaret Band Show has become a beloved family tradition for many over our nearly 40 years in this community.  If 2020 is the year you want to bring family and friends together and offline\, this is your perfect opportunity!  The live band\, comedy\, parody commercials\, and blend of music from the 1950s through the present day offer a little something for everyone. \nMost importantly is the purpose behind this annual event.  Every hand and heart that participates in the multi-weekend show does so to give back to the community. Wings of Hope Hospice and the Allegan Area Arts Council are beneficiaries and will receive portions of all proceeds. \nNeed to Knows: \n\nFood and beverages available for purchase before and during shows\nMeals available prior to each show for $6 starting at 5:30pm\nShowtime 7pm\nAll seats reserved\n\nPurchase Tickets Here
URL:https://alleganchamber.org/event/35th-cabaret-band-show/
LOCATION:Griswold Auditorium\, 401 Hubbard St.\, Allegan\, MI\, 49010\, United States
CATEGORIES:Chamber Member Event
ATTACH;FMTTYPE=image/png:https://alleganchamber.org/wp-content/uploads/2020/01/Cabaret-Band-Show.png
END:VEVENT
BEGIN:VEVENT
DTSTART;TZID=America/Detroit:20200313T190000
DTEND;TZID=America/Detroit:20200313T190000
DTSTAMP:20260423T150656
CREATED:20200312T132423Z
LAST-MODIFIED:20200312T132423Z
UID:10166-1584126000-1584126000@alleganchamber.org
SUMMARY:AHS Drama presents . . .
DESCRIPTION:
URL:https://alleganchamber.org/event/ahs-drama-presents-2/
LOCATION:Allegan High School Performing Arts Center\, 1560\, M-40 North\, MI\, 49010\, United States
CATEGORIES:Chamber Member Event
ATTACH;FMTTYPE=image/jpeg:https://alleganchamber.org/wp-content/uploads/2020/03/Anne-Frank.jpg
END:VEVENT
BEGIN:VEVENT
DTSTART;TZID=America/Detroit:20200314T190000
DTEND;TZID=America/Detroit:20200314T190000
DTSTAMP:20260423T150656
CREATED:20200224T193750Z
LAST-MODIFIED:20200224T193750Z
UID:10064-1584212400-1584212400@alleganchamber.org
SUMMARY:Vine & Dine at Gun Lake Casino
DESCRIPTION:Join Gun Lake Casino for a chef designed menu with wine pairings for each course\, featuring foods with a southern Italian slant and wines from Sicily and Sardinia to complement them. \nEach course features foods with a southern Italian slant and wines from Sicily and Sardinia to complement them. These wines are hand selected\, and will be presented before each course\, along with a brief description of where they came from\, how they are made and the reason they are best paired with the course. \nEach Vine and Dine event will be held inside the Private Dining Room\, located in the Harvest Buffet. \nDoors open for the event at 6:45 and dinner will start promptly at 7:00pm. \nSales for this event will end on Thursday\, March 12 at which time all sales will be final. \nPlease feel free to call the Harvest Buffet with any questions you may have! \nLimited seats are available! \nClick for menu and tickets.
URL:https://alleganchamber.org/event/vine-dine-at-gun-lake-casino/
LOCATION:Gun Lake Casino\, 1123 129th Ave\, Wayland\, 49344\, United States
CATEGORIES:Chamber Member Event
ATTACH;FMTTYPE=image/jpeg:https://alleganchamber.org/wp-content/uploads/2020/02/https___cdn.evbuc_.com_images_90675517_323817480605_1_original-e1582572932243.jpg
END:VEVENT
BEGIN:VEVENT
DTSTART;TZID=America/Detroit:20200314T190000
DTEND;TZID=America/Detroit:20200314T190000
DTSTAMP:20260423T150656
CREATED:20200312T132847Z
LAST-MODIFIED:20200312T132847Z
UID:10168-1584212400-1584212400@alleganchamber.org
SUMMARY:AHS Drama presents . . .
DESCRIPTION:
URL:https://alleganchamber.org/event/ahs-drama-presents-3/
LOCATION:Allegan High School Performing Arts Center\, 1560\, M-40 North\, MI\, 49010\, United States
CATEGORIES:Chamber Member Event
ATTACH;FMTTYPE=image/jpeg:https://alleganchamber.org/wp-content/uploads/2020/03/Anne-Frank.jpg
END:VEVENT
BEGIN:VEVENT
DTSTART;TZID=America/Detroit:20200314T200000
DTEND;TZID=America/Detroit:20200314T200000
DTSTAMP:20260423T150656
CREATED:20200311T134003Z
LAST-MODIFIED:20200311T135832Z
UID:10156-1584216000-1584216000@alleganchamber.org
SUMMARY:St. Patrick's Day Party
DESCRIPTION:
URL:https://alleganchamber.org/event/st-patricks-day-party/
LOCATION:Allegan Eagles\, 110 Chestnut St.\, Allegan\, MI\, 49010\, United States
CATEGORIES:Chamber Member Event
ATTACH;FMTTYPE=image/jpeg:https://alleganchamber.org/wp-content/uploads/2020/03/Eagles-St-Patricks-Day-2020.jpg
END:VEVENT
BEGIN:VEVENT
DTSTART;TZID=America/Detroit:20200317T150000
DTEND;TZID=America/Detroit:20200317T180000
DTSTAMP:20260423T150656
CREATED:20200310T165049Z
LAST-MODIFIED:20200310T171353Z
UID:10153-1584457200-1584468000@alleganchamber.org
SUMMARY:St. Paddy's Day Beer Sampling
DESCRIPTION:
URL:https://alleganchamber.org/event/st-paddys-day-beer-sampling/
LOCATION:Village Market – Allegan\, 100 Monroe St.\, Allegan\, MI\, 49010\, United States
CATEGORIES:Chamber Member Event
ATTACH;FMTTYPE=image/jpeg:https://alleganchamber.org/wp-content/uploads/2020/03/St-Patricks-Day-2020.jpg
END:VEVENT
BEGIN:VEVENT
DTSTART;TZID=America/Detroit:20200320T080000
DTEND;TZID=America/Detroit:20200320T170000
DTSTAMP:20260423T150656
CREATED:20200122T121110Z
LAST-MODIFIED:20200122T121129Z
UID:9885-1584691200-1584723600@alleganchamber.org
SUMMARY:35th Cabaret Band Show
DESCRIPTION:The Cabaret Band Show is the longest-running variety show in Allegan County.  Charging into its 35th year with just as much excitement as it’s first\, Cabaret goers will enjoy a night of high-energy entertainment performed by some of the best musicians in Southwest Michigan. \nHeld in the historic Griswold Auditorium in downtown Allegan\, Michigan\, The Cabaret Band Show has become a beloved family tradition for many over our nearly 40 years in this community.  If 2020 is the year you want to bring family and friends together and offline\, this is your perfect opportunity!  The live band\, comedy\, parody commercials\, and blend of music from the 1950s through the present day offer a little something for everyone. \nMost importantly is the purpose behind this annual event.  Every hand and heart that participates in the multi-weekend show does so to give back to the community. Wings of Hope Hospice and the Allegan Area Arts Council are beneficiaries and will receive portions of all proceeds. \nNeed to Knows: \n\nFood and beverages available for purchase before and during shows\nMeals available prior to each show for $6 starting at 5:30pm\nShowtime 7pm\nAll seats reserved\n\nPurchase Tickets Here
URL:https://alleganchamber.org/event/35th-cabaret-band-show-4/
LOCATION:Griswold Auditorium\, 401 Hubbard St.\, Allegan\, MI\, 49010\, United States
CATEGORIES:Chamber Member Event
ATTACH;FMTTYPE=image/png:https://alleganchamber.org/wp-content/uploads/2020/01/Cabaret-Band-Show.png
END:VEVENT
BEGIN:VEVENT
DTSTART;TZID=America/Detroit:20200411T120000
DTEND;TZID=America/Detroit:20200411T160000
DTSTAMP:20260423T150656
CREATED:20200310T140702Z
LAST-MODIFIED:20200401T191331Z
UID:10148-1586606400-1586620800@alleganchamber.org
SUMMARY:"You Bake" Easter Dinner from The Silo
DESCRIPTION:
URL:https://alleganchamber.org/event/easter-brunch-the-silo/
LOCATION:The Silo Banquets and Catering\, 1071 32nd St. (M-40 South)\, Allegan\, MI\, 49010\, United States
CATEGORIES:Chamber Member Event
ATTACH;FMTTYPE=image/jpeg:https://alleganchamber.org/wp-content/uploads/2020/03/Easter-Take-Out-2020.jpg
END:VEVENT
BEGIN:VEVENT
DTSTART;VALUE=DATE:20200412
DTEND;VALUE=DATE:20200413
DTSTAMP:20260423T150656
CREATED:20200401T180143Z
LAST-MODIFIED:20200401T181125Z
UID:10190-1586649600-1586735999@alleganchamber.org
SUMMARY:Easter Sunday Dinner Carry-out @ Village Market
DESCRIPTION:
URL:https://alleganchamber.org/event/easter-sunday-dinner-carry-out-village-market/
LOCATION:Village Market – Allegan\, 100 Monroe St.\, Allegan\, MI\, 49010\, United States
CATEGORIES:Chamber Member Event
ATTACH;FMTTYPE=image/jpeg:https://alleganchamber.org/wp-content/uploads/2020/04/Easter-Dinner-2020.jpg
END:VEVENT
END:VCALENDAR