BEGIN:VCALENDAR
VERSION:2.0
PRODID:-//Allegan Area Chamber - ECPv6.15.20//NONSGML v1.0//EN
CALSCALE:GREGORIAN
METHOD:PUBLISH
X-ORIGINAL-URL:https://alleganchamber.org
X-WR-CALDESC:Events for Allegan Area Chamber
REFRESH-INTERVAL;VALUE=DURATION:PT1H
X-Robots-Tag:noindex
X-PUBLISHED-TTL:PT1H
BEGIN:VTIMEZONE
TZID:America/Detroit
BEGIN:DAYLIGHT
TZOFFSETFROM:-0500
TZOFFSETTO:-0400
TZNAME:EDT
DTSTART:20180311T070000
END:DAYLIGHT
BEGIN:STANDARD
TZOFFSETFROM:-0400
TZOFFSETTO:-0500
TZNAME:EST
DTSTART:20181104T060000
END:STANDARD
BEGIN:DAYLIGHT
TZOFFSETFROM:-0500
TZOFFSETTO:-0400
TZNAME:EDT
DTSTART:20190310T070000
END:DAYLIGHT
BEGIN:STANDARD
TZOFFSETFROM:-0400
TZOFFSETTO:-0500
TZNAME:EST
DTSTART:20191103T060000
END:STANDARD
BEGIN:DAYLIGHT
TZOFFSETFROM:-0500
TZOFFSETTO:-0400
TZNAME:EDT
DTSTART:20200308T070000
END:DAYLIGHT
BEGIN:STANDARD
TZOFFSETFROM:-0400
TZOFFSETTO:-0500
TZNAME:EST
DTSTART:20201101T060000
END:STANDARD
END:VTIMEZONE
BEGIN:VEVENT
DTSTART;TZID=America/Detroit:20190830T070000
DTEND;TZID=America/Detroit:20190830T070000
DTSTAMP:20260421T192340
CREATED:20190807T134353Z
LAST-MODIFIED:20190822T124824Z
UID:9341-1567148400-1567148400@alleganchamber.org
SUMMARY:Patriot Golf Day
DESCRIPTION:Honor Their Sacrifice ~ Educate their Legacy \nON FRIDAY AUGUST 30TH THE LYNX GC WILL BE HOSTING THE INAUGURAL FOLDS OF HONOR CELEBRATION & GOLF TOURNAMENT. OUR GOAL IS TO RAISE $50\,000 FOR THE FOLDS OF HONOR SCHOLARSHIP FUND FOR MILITARY FAMILIES THROUGHOUT MICHIGAN WITH SPECIAL EMPHASIS FOR WEST MICHIGAN FAMILIES. IT IS OUR HOPE TO PARTNER WITH PATRIOTS THAT SHARE THE SAME DESIRE OF HONORING THOSE THAT HAVE SERVED BY ASSISTING IN THE EDUCATION OF THEIR CHILDREN. \nClick for more information and registration. \nCorporate Partner Opportuities
URL:https://alleganchamber.org/event/patriot-golf-day/
LOCATION:LYNX Golf Course\, 900 Lincoln Road\, Otsego\, MI\, 49078\, United States
CATEGORIES:Chamber Member Event,Golf
ATTACH;FMTTYPE=image/jpeg:https://alleganchamber.org/wp-content/uploads/2019/08/Patriot-Golf-Day-2019-e1565185340248.jpg
ORGANIZER;CN="Lynx Golf Course Grill":MAILTO:grill@lynxgc.com
END:VEVENT
BEGIN:VEVENT
DTSTART;TZID=America/Detroit:20190831T080000
DTEND;TZID=America/Detroit:20190831T080000
DTSTAMP:20260421T192340
CREATED:20190801T131554Z
LAST-MODIFIED:20190828T120831Z
UID:9295-1567238400-1567238400@alleganchamber.org
SUMMARY:Lobster Mania @ Village Market
DESCRIPTION:
URL:https://alleganchamber.org/event/lobster-mania-village-market-2/
LOCATION:Village Market – Allegan\, 100 Monroe St.\, Allegan\, MI\, 49010\, United States
CATEGORIES:Chamber Member Event
ATTACH;FMTTYPE=image/jpeg:https://alleganchamber.org/wp-content/uploads/2019/08/Lobster-Fest-873-8AM.jpg
END:VEVENT
BEGIN:VEVENT
DTSTART;TZID=America/Detroit:20190903T144500
DTEND;TZID=America/Detroit:20190903T164500
DTSTAMP:20260421T192340
CREATED:20190822T162104Z
LAST-MODIFIED:20190903T133056Z
UID:9391-1567521900-1567529100@alleganchamber.org
SUMMARY:Back to School with Kona Ice
DESCRIPTION:
URL:https://alleganchamber.org/event/kona-ice-briarwood-assisted-living/
LOCATION:Briarwood Assisted Living & Memory Care\, 620 Ely St.\, Allegan\, MI\, 49010\, United States
CATEGORIES:Chamber Member Event
ATTACH;FMTTYPE=image/jpeg:https://alleganchamber.org/wp-content/uploads/2019/08/KONA-ICE-1.jpg
END:VEVENT
BEGIN:VEVENT
DTSTART;TZID=America/Detroit:20190914T100000
DTEND;TZID=America/Detroit:20190914T140000
DTSTAMP:20260421T192340
CREATED:20190904T141913Z
LAST-MODIFIED:20190904T141913Z
UID:9418-1568455200-1568469600@alleganchamber.org
SUMMARY:Wag\, Walk\, & Wine
DESCRIPTION:
URL:https://alleganchamber.org/event/wag-walk-wine/
LOCATION:Wade Bayou Park\, Center St\, Douglas\, MI\, United States
CATEGORIES:Chamber Member Event
ATTACH;FMTTYPE=image/jpeg:https://alleganchamber.org/wp-content/uploads/2019/09/Wag-n-walk-Banner-2019.jpg
END:VEVENT
BEGIN:VEVENT
DTSTART;TZID=America/Detroit:20190920T130000
DTEND;TZID=America/Detroit:20190920T153000
DTSTAMP:20260421T192340
CREATED:20190918T150950Z
LAST-MODIFIED:20190918T150950Z
UID:9463-1568984400-1568993400@alleganchamber.org
SUMMARY:Bake Sale @ Ely Manor
DESCRIPTION:
URL:https://alleganchamber.org/event/bake-sale-ely-manor/
LOCATION:Ely Manor\, 1200 Ely St\, Allegan\, MI\, 49010\, United States
CATEGORIES:Chamber Member Event
ATTACH;FMTTYPE=image/jpeg:https://alleganchamber.org/wp-content/uploads/2019/09/bake-sale.jpg
END:VEVENT
BEGIN:VEVENT
DTSTART;TZID=America/Detroit:20190927T110000
DTEND;TZID=America/Detroit:20190927T180000
DTSTAMP:20260421T192340
CREATED:20190918T165857Z
LAST-MODIFIED:20190918T165857Z
UID:9471-1569582000-1569607200@alleganchamber.org
SUMMARY:Ribfest @ Village Market
DESCRIPTION:
URL:https://alleganchamber.org/event/ribfest-village-market-2/
LOCATION:Village Market – Allegan\, 100 Monroe St.\, Allegan\, MI\, 49010\, United States
CATEGORIES:Chamber Member Event
ATTACH;FMTTYPE=image/jpeg:https://alleganchamber.org/wp-content/uploads/2019/09/Ribfest-9-27-19.jpg
END:VEVENT
BEGIN:VEVENT
DTSTART;TZID=America/Detroit:20190928T090000
DTEND;TZID=America/Detroit:20190928T090000
DTSTAMP:20260421T192340
CREATED:20190904T115013Z
LAST-MODIFIED:20190904T115013Z
UID:9411-1569661200-1569661200@alleganchamber.org
SUMMARY:Jailbreak 5K
DESCRIPTION:Think you can outrun the police? Here’s your chance to try! \nLaw enforcement has teamed up with Safe Harbor Children’s Advocacy Center to host their second Badges and Bravery 5k.  Civilian racers have a head start and will have the opportunity to run from police after escaping jail.  Law enforcement and other first responders need to catch up and “catch” the escapees.  All proceeds from the event will go toward Safe Harbor who’s mission is to provide a lifeline to victims of child abuse and neglect. \nSign up now for Safe Harbor’s Jailbreak 5k to run from the cops!
URL:https://alleganchamber.org/event/jailbreak-5k/
LOCATION:Camp Jijak\, 2558 20th St.\, Allegan\, MI\, 49010\, United States
CATEGORIES:Chamber Member Event
ATTACH;FMTTYPE=image/jpeg:https://alleganchamber.org/wp-content/uploads/2019/09/Jailbreak-5k-2019.jpg
END:VEVENT
BEGIN:VEVENT
DTSTART;TZID=America/Detroit:20190928T170000
DTEND;TZID=America/Detroit:20190928T210000
DTSTAMP:20260421T192340
CREATED:20190924T150328Z
LAST-MODIFIED:20190924T150405Z
UID:9493-1569690000-1569704400@alleganchamber.org
SUMMARY:Allegan Lions Club Community Social
DESCRIPTION:
URL:https://alleganchamber.org/event/allegan-lions-club-community-social/
LOCATION:Allegan Eagles\, 110 Chestnut St.\, Allegan\, MI\, 49010\, United States
CATEGORIES:Chamber Member Event
ATTACH;FMTTYPE=image/jpeg:https://alleganchamber.org/wp-content/uploads/2019/09/Community-Social.jpg
END:VEVENT
BEGIN:VEVENT
DTSTART;TZID=America/Detroit:20190929T080000
DTEND;TZID=America/Detroit:20190929T160000
DTSTAMP:20260421T192340
CREATED:20190410T174409Z
LAST-MODIFIED:20190410T174409Z
UID:8799-1569744000-1569772800@alleganchamber.org
SUMMARY:Allegan Antiques Market
DESCRIPTION:
URL:https://alleganchamber.org/event/allegan-antiques-market-7/
LOCATION:Allegan County Fairgrounds\, 150 Allegan County Fair Drive\, Allegan\, MI\, 49010\, United States
CATEGORIES:Chamber Member Event
ATTACH;FMTTYPE=image/png:https://alleganchamber.org/wp-content/uploads/2019/04/logo.png
END:VEVENT
BEGIN:VEVENT
DTSTART;VALUE=DATE:20191005
DTEND;VALUE=DATE:20191006
DTSTAMP:20260421T192340
CREATED:20190918T161953Z
LAST-MODIFIED:20190918T162914Z
UID:9466-1570233600-1570319999@alleganchamber.org
SUMMARY:Joe Kavanagh Scholarship Fundraiser
DESCRIPTION:
URL:https://alleganchamber.org/event/joe-kavanagh-scholarship-fundraiser/
LOCATION:Allegan\, 49010
CATEGORIES:Chamber Member Event
ATTACH;FMTTYPE=image/jpeg:https://alleganchamber.org/wp-content/uploads/2019/09/Kavanagh-Scholarship-2019-1.jpg
END:VEVENT
BEGIN:VEVENT
DTSTART;TZID=America/Detroit:20191010T173000
DTEND;TZID=America/Detroit:20191010T173000
DTSTAMP:20260421T192340
CREATED:20190911T154454Z
LAST-MODIFIED:20190916T121326Z
UID:9435-1570728600-1570728600@alleganchamber.org
SUMMARY:Sylvia's Place Fall Festival
DESCRIPTION:Please join us in our mission to provide and sustain a safe environment for women\, children\, and men through preventative education and advocacy which promote stronger individuals\, families and communities. \nClick for more information
URL:https://alleganchamber.org/event/sylvias-place-fall-festival/
LOCATION:The Silo Banquets and Catering\, 1071 32nd St. (M-40 South)\, Allegan\, MI\, 49010\, United States
CATEGORIES:Chamber Member Event
ATTACH;FMTTYPE=image/png:https://alleganchamber.org/wp-content/uploads/2019/09/69652112_2985325481539331_3054482622387322880_n.png
END:VEVENT
BEGIN:VEVENT
DTSTART;TZID=America/Detroit:20191015T180000
DTEND;TZID=America/Detroit:20191015T180000
DTSTAMP:20260421T192340
CREATED:20190822T134454Z
LAST-MODIFIED:20191001T151458Z
UID:9397-1571162400-1571162400@alleganchamber.org
SUMMARY:Allegan City Council Candidates Forum
DESCRIPTION:With the shared mission of providing reliable and timely information\, as well as representing the well-being of our community and local economy\, the Allegan District Library\, in partnership with the Allegan Area Chamber of Commerce and the Allegan County News\, will host a formal question-and-answer forum in advance of the November 5th election of City Council members. \nThis is your opportunity to meet the candidates\, learn about their positions on relevant issues\, and to measure their demeanor and competence when addressing those issues in public.  The forum will include introductions and opening position statements followed by the delivery of prepared and audience questions.  Each candidate will be permitted to answer or decline each of the questions.  The event will follow a forum protocol and is not a debate.  The forum will be streamed to Facebook Live.  Like the City Council roles\, the forum will be strictly independent of sectarian affiliation\, will be non-partisan\, and non-denominational in its approach to the question and answers. \nTo submit a question for consideration in advance of the forum\, email it to Library Director Ryan Deery at rdeery@alleganlibrary.org. Please be aware that time constraints and other factors will determine which and how many audience questions are utilized.
URL:https://alleganchamber.org/event/allegan-city-council-candidates-forum/
LOCATION:Allegan District Library\, 331 Hubbard St\, Allegan\, MI\, 49010\, United States
CATEGORIES:Chamber Events,Chamber Member Event
ATTACH;FMTTYPE=image/png:https://alleganchamber.org/wp-content/uploads/2019/08/Candidates-Forum.png
ORGANIZER;CN="Allegan Area Chamber of Commerce":MAILTO:director@alleganchamber.com
END:VEVENT
BEGIN:VEVENT
DTSTART;TZID=America/Detroit:20191019T170000
DTEND;TZID=America/Detroit:20191019T200000
DTSTAMP:20260421T192340
CREATED:20191002T145442Z
LAST-MODIFIED:20191002T145442Z
UID:9526-1571504400-1571515200@alleganchamber.org
SUMMARY:JCI Allegan's 80th Anniversary Celebration
DESCRIPTION:
URL:https://alleganchamber.org/event/jci-allegans-80th-anniversary-celebration/
LOCATION:Hartman Conference Center\, 690 Airway Drive\, Allegan\, MI\, 49010\, United States
CATEGORIES:Chamber Member Event
ATTACH;FMTTYPE=image/jpeg:https://alleganchamber.org/wp-content/uploads/2019/10/70688437_2367185976735214_4066636582457704448_n.jpg
END:VEVENT
BEGIN:VEVENT
DTSTART;TZID=America/Detroit:20191019T180000
DTEND;TZID=America/Detroit:20191019T210000
DTSTAMP:20260421T192340
CREATED:20191002T121929Z
LAST-MODIFIED:20191002T121929Z
UID:9523-1571508000-1571518800@alleganchamber.org
SUMMARY:Food Pantry Benefit Concert @ Christ Community Church
DESCRIPTION:
URL:https://alleganchamber.org/event/food-pantry-benefit-concert-christ-community-church/
LOCATION:Allegan Christ Community Church\, 3370 113th Ave\, Allegan\, MI\, 49010\, United States
CATEGORIES:Chamber Member Event
ATTACH;FMTTYPE=image/png:https://alleganchamber.org/wp-content/uploads/2019/10/Food-Pantry-POSTER-web.png
END:VEVENT
BEGIN:VEVENT
DTSTART;TZID=America/Detroit:20191022T170000
DTEND;TZID=America/Detroit:20191022T190000
DTSTAMP:20260421T192340
CREATED:20191001T174640Z
LAST-MODIFIED:20191001T175410Z
UID:9517-1571763600-1571770800@alleganchamber.org
SUMMARY:Wings of Hope: Death Cafe
DESCRIPTION:Wings of Hope Hospice is sponsoring a Death Café.  This event is a part of a growing worldwide phenomenon where people\, often strangers\, gather to talk about death and eat good food. \nDeath Café is scheduled for Tuesday\, October 22\, from 5 pm to 7 pm at the Wings of Hope Hospice office conference room located at 530 Linn St. in Allegan\, across from Ascension – Allegan Hospital. \nThe objective of Death Café is to ‘increase awareness of death with a view to helping people make the most of their (finite) lives’.  Death Café was founded by Jon Underwood in England in 2011 based on the work of Bernard Crettaz\, a Swiss sociologist.  Lizzy Miles was the first person to offer Death Café in the U.S. \nIndividuals may participate according to their level of comfort.  The conversation will be thoughtful\, respectful and confidential.  The event is free and complimentary hors d’oeuvres and desserts will be served.  To attend\, please RSVP by calling the Wings of Hope Hospice office by October 15th at 800-796-2676 or 269-686-8659.   Seating is limited.
URL:https://alleganchamber.org/event/wings-of-hope-death-cafe-2/
LOCATION:Wings of Hope Hospice\, 530 Linn St\, Allegan\, MI\, 49010\, United States
CATEGORIES:Chamber Member Event
ATTACH;FMTTYPE=image/jpeg:https://alleganchamber.org/wp-content/uploads/2019/10/Death-Cafe-Flier-2019.jpg
END:VEVENT
BEGIN:VEVENT
DTSTART;TZID=America/Detroit:20191024T180000
DTEND;TZID=America/Detroit:20191024T210000
DTSTAMP:20260421T192340
CREATED:20191017T123128Z
LAST-MODIFIED:20191017T123128Z
UID:9572-1571940000-1571950800@alleganchamber.org
SUMMARY:Hearts and Hands Celebration
DESCRIPTION:This year’s Hearts and Hands Celebration will take place on Thursday\, October 24th at the Laketown Golf and Conference Center in Saugatuck.  The event begins at 6:00 pm and ends at 9:00 pm. Heavy Hors-d’oeuvres and a cash bar will be available.  Business casual attire is encouraged. \nThe evening will feature community partner recognition\, a silent auction and the opportunity to support Community Action’s work.  Attendees and supporters of the organization have the opportunity to assist families striving to achieve a better life.  The organization anticipates 200 attendees\, including business and community leaders\, elected officials\, program partners\, and supporters. Sponsorship opportunities are available ranging from the $250 level to $1\,000 level. Tickets are also available until October 10th for purchase at $35 a person.  For more information on ticket or sponsorship opportunities\, CLICK HERE.
URL:https://alleganchamber.org/event/hearts-and-hands-celebration/
LOCATION:Laketown Golf and Conference Center\, 6069 Blue Star Hwy\, Saugatuck\, MI\, 49453\, United States
CATEGORIES:Chamber Member Event
ATTACH;FMTTYPE=image/jpeg:https://alleganchamber.org/wp-content/uploads/2019/10/Hearts-and-Hands-2019.jpg
END:VEVENT
BEGIN:VEVENT
DTSTART;VALUE=DATE:20191026
DTEND;VALUE=DATE:20191028
DTSTAMP:20260421T192340
CREATED:20191009T120026Z
LAST-MODIFIED:20191009T120026Z
UID:9531-1572048000-1572220799@alleganchamber.org
SUMMARY:18th Annual Halloween Festival
DESCRIPTION:
URL:https://alleganchamber.org/event/18th-annual-halloween-festival/
LOCATION:4 – H Camp Kidwell\, 39000 1st Ave.\, Bloomingdale\, MI\, 49026\, United States
CATEGORIES:Chamber Member Event
ATTACH;FMTTYPE=image/jpeg:https://alleganchamber.org/wp-content/uploads/2019/10/71593596_2303826616383303_2614085957279809536_n.jpg
ORGANIZER;CN="4 - H Camp Kidwell":MAILTO:campkidwell@btc-bti.com
END:VEVENT
BEGIN:VEVENT
DTSTART;TZID=America/Detroit:20191026T090000
DTEND;TZID=America/Detroit:20191026T180000
DTSTAMP:20260421T192340
CREATED:20191024T113638Z
LAST-MODIFIED:20191024T113638Z
UID:9576-1572080400-1572112800@alleganchamber.org
SUMMARY:Halloween Sale - 50% Off
DESCRIPTION:
URL:https://alleganchamber.org/event/halloween-sale-50-off/
LOCATION:Goodwill Store Allegan\, 1568 M-40 N\, Allegan\, 49010\, United States
CATEGORIES:Chamber Member Event
ATTACH;FMTTYPE=image/png:https://alleganchamber.org/wp-content/uploads/2019/10/Halloween-Sale-Event-Flyer-e1571916971143.png
END:VEVENT
BEGIN:VEVENT
DTSTART;TZID=America/Detroit:20191101T180000
DTEND;TZID=America/Detroit:20191101T180000
DTSTAMP:20260421T192340
CREATED:20191030T134456Z
LAST-MODIFIED:20191030T134548Z
UID:9602-1572631200-1572631200@alleganchamber.org
SUMMARY:The Book Club Killer
DESCRIPTION:Tickets: \n\n$35.00 – Single\n$65.00 – Couple\n$250.00 – Table (seating for 8)
URL:https://alleganchamber.org/event/the-book-club-killer/
LOCATION:Griswold Auditorium\, 401 Hubbard St.\, Allegan\, MI\, 49010\, United States
CATEGORIES:Chamber Member Event
ATTACH;FMTTYPE=image/png:https://alleganchamber.org/wp-content/uploads/2019/10/EDAPS-Mystery-Dinner.png
END:VEVENT
BEGIN:VEVENT
DTSTART;TZID=America/Detroit:20191102T180000
DTEND;TZID=America/Detroit:20191102T180000
DTSTAMP:20260421T192340
CREATED:20191030T134932Z
LAST-MODIFIED:20191030T134932Z
UID:9607-1572717600-1572717600@alleganchamber.org
SUMMARY:The Book Club Killer
DESCRIPTION:Tickets: \n\n$35.00 – Single\n$65.00 – Couple\n$250.00 – Table (seating for 8)
URL:https://alleganchamber.org/event/the-book-club-killer-2/
LOCATION:Griswold Auditorium\, 401 Hubbard St.\, Allegan\, MI\, 49010\, United States
CATEGORIES:Chamber Member Event
ATTACH;FMTTYPE=image/png:https://alleganchamber.org/wp-content/uploads/2019/10/EDAPS-Mystery-Dinner.png
END:VEVENT
BEGIN:VEVENT
DTSTART;TZID=America/Detroit:20191109T180000
DTEND;TZID=America/Detroit:20191109T180000
DTSTAMP:20260421T192340
CREATED:20191031T120255Z
LAST-MODIFIED:20191031T120255Z
UID:9612-1573322400-1573322400@alleganchamber.org
SUMMARY:Lynx Comedy Night
DESCRIPTION:
URL:https://alleganchamber.org/event/lynx-comedy-night/
LOCATION:LYNX Golf Course\, 900 Lincoln Road\, Otsego\, MI\, 49078\, United States
CATEGORIES:Chamber Member Event
ATTACH;FMTTYPE=image/jpeg:https://alleganchamber.org/wp-content/uploads/2019/10/Comedy-11-9-2019.jpg
ORGANIZER;CN="Lynx Golf Course Grill":MAILTO:grill@lynxgc.com
END:VEVENT
BEGIN:VEVENT
DTSTART;TZID=America/Detroit:20191111T080000
DTEND;TZID=America/Detroit:20191111T190000
DTSTAMP:20260421T192340
CREATED:20191104T161334Z
LAST-MODIFIED:20191104T175616Z
UID:9621-1573459200-1573498800@alleganchamber.org
SUMMARY:Free Washes for Veterans at Ric & Stan's Carwash
DESCRIPTION:Ric and Stan’s will offer FREE CAR WASHES to all veterans and active-duty personnel at three of our locations on Veterans Day.  This is the 20th CONSECUTIVE YEAR we have participated in the Grace for Veterans program. \nFree car washes will be offered at our Kalamazoo and Otsego locations as well as at our Marshall Street location in Allegan from 8 a.m. to 7 p.m. Nov. 11.  Please help us spread the word to veterans and active duty friends so we can give away as many free washes as possible!
URL:https://alleganchamber.org/event/free-washes-for-veterans-at-ric-stans-carwash/
LOCATION:Ric & Stan’s Carwash\, 950 Marshall St\, Allegan\, MI\, 49010\, United States
CATEGORIES:Chamber Member Event
ATTACH;FMTTYPE=image/png:https://alleganchamber.org/wp-content/uploads/2019/11/75310358_10157786517813979_6996304865357987840_n.png
END:VEVENT
BEGIN:VEVENT
DTSTART;TZID=America/Detroit:20191114T190000
DTEND;TZID=America/Detroit:20191114T190000
DTSTAMP:20260421T192340
CREATED:20191113T143207Z
LAST-MODIFIED:20191113T143207Z
UID:9643-1573758000-1573758000@alleganchamber.org
SUMMARY:Allegan High Drama presents Footloose
DESCRIPTION:
URL:https://alleganchamber.org/event/allegan-high-drama-presents-footloose/
LOCATION:Allegan High School Performing Arts Center\, 1560\, M-40 North\, MI\, 49010\, United States
CATEGORIES:Chamber Member Event
ATTACH;FMTTYPE=image/jpeg:https://alleganchamber.org/wp-content/uploads/2019/11/Footloose.jpg
END:VEVENT
BEGIN:VEVENT
DTSTART;TZID=America/Detroit:20191115T190000
DTEND;TZID=America/Detroit:20191115T190000
DTSTAMP:20260421T192340
CREATED:20191113T143410Z
LAST-MODIFIED:20191113T143410Z
UID:9647-1573844400-1573844400@alleganchamber.org
SUMMARY:Allegan High Drama presents Footloose
DESCRIPTION:
URL:https://alleganchamber.org/event/allegan-high-drama-presents-footloose-2/
LOCATION:Allegan High School Performing Arts Center\, 1560\, M-40 North\, MI\, 49010\, United States
CATEGORIES:Chamber Member Event
ATTACH;FMTTYPE=image/jpeg:https://alleganchamber.org/wp-content/uploads/2019/11/Footloose.jpg
END:VEVENT
BEGIN:VEVENT
DTSTART;TZID=America/Detroit:20191122T190000
DTEND;TZID=America/Detroit:20191122T190000
DTSTAMP:20260421T192340
CREATED:20191114T132916Z
LAST-MODIFIED:20191114T132916Z
UID:9657-1574449200-1574449200@alleganchamber.org
SUMMARY:ACP presents: Leading Ladies
DESCRIPTION:Allegan Community Players brings you a hilarious farce from the mind of Ken Ludwig\, writer of Lend me a Tenor\, to the Griswold Auditorium stage! Don;t miss this great show! November 22nd at 7 pm and November 23rd at 2 and 7 pm! Tickets are $10 at the door and doors to seating will open 30 min before performance!
URL:https://alleganchamber.org/event/acp-presents-leading-ladies/
LOCATION:Griswold Auditorium\, 401 Hubbard St.\, Allegan\, MI\, 49010\, United States
CATEGORIES:Chamber Member Event
ATTACH;FMTTYPE=image/jpeg:https://alleganchamber.org/wp-content/uploads/2019/11/Leading-Ladies.jpg
END:VEVENT
BEGIN:VEVENT
DTSTART;VALUE=DATE:20191205
DTEND;VALUE=DATE:20191209
DTSTAMP:20260421T192340
CREATED:20191118T135041Z
LAST-MODIFIED:20191127T152858Z
UID:9670-1575504000-1575849599@alleganchamber.org
SUMMARY:Camp Kidwell's Festival of Trees
DESCRIPTION:General admission free and food is available! \nDon’t miss one of Camp Kidwell’s featured events!  See beautifully decorated trees and wreaths\, visit w/ Santa\, make cookies w/ Mrs. Claus\, have a meal with family and friends and help us raise funds to support our camp programs.  This event features 100+ beautifully decorated trees\, wreaths\, and other holiday items that are available for purchase through our live and online auctions.  You can see these items in person and can buy them for your home or business by attending our Dinner at the Lodge and Live Auction or by participating in our online auction. \nThank you to Badger Evergreen for helping make this amazing fundraiser possible! \nSenior Citizen’s Day – Thursday\, December 5th – noon – 6 pm\nWe would love to see all our amazing Senior Citizens in our community.  Church and Senior Center Groups are welcome!  Lunch and dinner will be available\, and you can be the first to see the beautiful “Winter Wonderland!” \nSoup/Sandwich Supper – Friday\, December 6th – noon – 9 pm\nWe open at noon for you to come and browse!  Lunch will be available\, and at 6 pm we will begin serving our soup and sandwich supper.  Dinner and drinks are available at a reasonable cost.  For your listening pleasure\, we will feature live music starting at 6:30! \nCookies w/ Mrs. Claus – Saturday\, December 7th – 10 am – 3 pm\nDon’t miss your chance to share your Christmas list and get your picture taken with Santa Claus.  Decorate cookies with Mrs. Claus.  Make some crafts.  Enjoy yummy food.  See all the beautiful decorations and items. \nDinner at the Lodge – Saturday\, December 7th – Social 6 pm\, Dinner 6:30 pm \nTickets – $50 each limited to 100 sold tickets.  Adult only event (alcohol will be served). Each ticket includes a delicious dinner and a seat at the live auction of specially selected items.  Don’t delay get your tickets TODAY! \nSunday Lunch – Sunday\, December 8th – 11 am – 5 pm\nJoin us for lunch and to place your final bids!  A delicious lunch will be served from 11 am until 3 pm. Online Bidding ends at 4 pm\, checkout will begin at 5 pm
URL:https://alleganchamber.org/event/camp-kidwells/
LOCATION:4 – H Camp Kidwell\, 39000 1st Ave.\, Bloomingdale\, MI\, 49026\, United States
CATEGORIES:Chamber Member Event
ATTACH;FMTTYPE=image/jpeg:https://alleganchamber.org/wp-content/uploads/2019/11/76686322_2366609583438339_5627233827295330304_n.jpg
ORGANIZER;CN="4 - H Camp Kidwell":MAILTO:campkidwell@btc-bti.com
END:VEVENT
BEGIN:VEVENT
DTSTART;TZID=America/Detroit:20191207T083000
DTEND;TZID=America/Detroit:20191207T123000
DTSTAMP:20260421T192340
CREATED:20191204T114724Z
LAST-MODIFIED:20191204T120158Z
UID:9696-1575707400-1575721800@alleganchamber.org
SUMMARY:Allegan United Methodist Church Holiday Bazaar
DESCRIPTION:
URL:https://alleganchamber.org/event/allegan-united-methodist-church-holiday-bazaar/
LOCATION:Allegan United Methodist Church\, 409 Trowbridge St.\, Allegan\, 49010\, United States
CATEGORIES:Chamber Member Event
ATTACH;FMTTYPE=image/jpeg:https://alleganchamber.org/wp-content/uploads/2019/12/UMC-Holiday-Bazaar-2019.jpg
ORGANIZER;CN="Allegan United Methodist Church":MAILTO:secretary@allumc.org
END:VEVENT
BEGIN:VEVENT
DTSTART;TZID=America/Detroit:20191207T100000
DTEND;TZID=America/Detroit:20191207T130000
DTSTAMP:20260421T192340
CREATED:20191204T175912Z
LAST-MODIFIED:20191204T175912Z
UID:9709-1575712800-1575723600@alleganchamber.org
SUMMARY:Pictures with Mr. & Mrs. Claus
DESCRIPTION:Everyone!  Join us at Hartman-Ellis Agency to get your family pictures with Mr. and Mrs. Claus.  This event is free and open to the public.  This event will take place on Saturday\, December 7th from 10 am -1 pm. Snacks and refreshments will be provided! \nHartman-Ellis Agency is located at 155 Brady St Allegan MI 49010
URL:https://alleganchamber.org/event/pictures-with-mr-mrs-claus/
LOCATION:Hartman-Ellis\, 155 Brady St.\, Allegan\, 49010\, United States
CATEGORIES:Chamber Member Event
ATTACH;FMTTYPE=image/png:https://alleganchamber.org/wp-content/uploads/2019/12/75564619_129186858498747_1626749937448386560_o-e1575482218480.png
ORGANIZER;CN="Taylor Lake%2C Modern Woodmen of America":MAILTO:taylor.j.lake@mwarep.org
END:VEVENT
BEGIN:VEVENT
DTSTART;TZID=America/Detroit:20191207T150000
DTEND;TZID=America/Detroit:20191207T150000
DTSTAMP:20260421T192340
CREATED:20191118T144403Z
LAST-MODIFIED:20191207T160430Z
UID:9673-1575730800-1575730800@alleganchamber.org
SUMMARY:Ugly Sweater 5K to Benefit APS Tigers in Motion
DESCRIPTION:It is time to don that hideous ugly sweater lying around and come out to support a great cause!  It is time for the Allegan Ugly Sweater 5K!!  This event will start and finish at the beautiful downtown Allegan Riverfront.  All proceeds from the event will be benefiting the Allegan Tigers in Motion program.  Post-Race celebration to take place following the race with drinks and soup/chili. \nAwards for different levels of runners\, as well as\, awards for the “Ugliest” sweater! On-course entertainment to be present during race activities to ‘warm’ the participants and spectators.  This is going to be a must-do family-friendly event \nClick for more information & registration.
URL:https://alleganchamber.org/event/ugly-sweater-5k/
LOCATION:Allegan Riverfront
CATEGORIES:Chamber Member Event
ATTACH;FMTTYPE=image/jpeg:https://alleganchamber.org/wp-content/uploads/2019/11/10500386_524838114328438_590708732226022124_n-e1574861907460.jpg
END:VEVENT
BEGIN:VEVENT
DTSTART;TZID=America/Detroit:20191207T180000
DTEND;TZID=America/Detroit:20191207T180000
DTSTAMP:20260421T192340
CREATED:20191031T115527Z
LAST-MODIFIED:20191031T115527Z
UID:9609-1575741600-1575741600@alleganchamber.org
SUMMARY:Community Concert @ First Presbyterian Church
DESCRIPTION:
URL:https://alleganchamber.org/event/community-concert-first-presbyterian-church/
LOCATION:First Presbyterian Church\, 200 Cutler St\, Allegan\, 49010
CATEGORIES:Chamber Member Event
ATTACH;FMTTYPE=image/jpeg:https://alleganchamber.org/wp-content/uploads/2019/10/Community-Concert-Allegan-2019.jpg
END:VEVENT
END:VCALENDAR