BEGIN:VCALENDAR
VERSION:2.0
PRODID:-//Allegan Area Chamber - ECPv6.15.20//NONSGML v1.0//EN
CALSCALE:GREGORIAN
METHOD:PUBLISH
X-ORIGINAL-URL:https://alleganchamber.org
X-WR-CALDESC:Events for Allegan Area Chamber
REFRESH-INTERVAL;VALUE=DURATION:PT1H
X-Robots-Tag:noindex
X-PUBLISHED-TTL:PT1H
BEGIN:VTIMEZONE
TZID:America/Detroit
BEGIN:DAYLIGHT
TZOFFSETFROM:-0500
TZOFFSETTO:-0400
TZNAME:EDT
DTSTART:20170312T070000
END:DAYLIGHT
BEGIN:STANDARD
TZOFFSETFROM:-0400
TZOFFSETTO:-0500
TZNAME:EST
DTSTART:20171105T060000
END:STANDARD
BEGIN:DAYLIGHT
TZOFFSETFROM:-0500
TZOFFSETTO:-0400
TZNAME:EDT
DTSTART:20180311T070000
END:DAYLIGHT
BEGIN:STANDARD
TZOFFSETFROM:-0400
TZOFFSETTO:-0500
TZNAME:EST
DTSTART:20181104T060000
END:STANDARD
BEGIN:DAYLIGHT
TZOFFSETFROM:-0500
TZOFFSETTO:-0400
TZNAME:EDT
DTSTART:20190310T070000
END:DAYLIGHT
BEGIN:STANDARD
TZOFFSETFROM:-0400
TZOFFSETTO:-0500
TZNAME:EST
DTSTART:20191103T060000
END:STANDARD
BEGIN:DAYLIGHT
TZOFFSETFROM:-0500
TZOFFSETTO:-0400
TZNAME:EDT
DTSTART:20200308T070000
END:DAYLIGHT
BEGIN:STANDARD
TZOFFSETFROM:-0400
TZOFFSETTO:-0500
TZNAME:EST
DTSTART:20201101T060000
END:STANDARD
END:VTIMEZONE
BEGIN:VEVENT
DTSTART;VALUE=DATE:20181129
DTEND;VALUE=DATE:20181203
DTSTAMP:20260424T195944
CREATED:20181031T170340Z
LAST-MODIFIED:20181121T193009Z
UID:8251-1543449600-1543795199@alleganchamber.org
SUMMARY:Festival of Trees
DESCRIPTION:16th Annual\n Festival of Trees\nNov. 29 – Dec. 2\, 2018\n \n  \nDon’t miss this festive\, family-oriented event!  General admission is free!\n4-H Camp Kidwell is turned into a “Winter Wonderland” featuring beautifully decorated trees and wreaths\, a chance to visit w/ Santa\, make cookies w/ Mrs. Claus and have a meal with family and friends!  The Festival of Trees is 4-H Camp Kidwell’s largest fundraiser which has raised over $350\,000 in 15 years!   Please stop out and be part of this wonderful event!!!! \nClick for details.
URL:https://alleganchamber.org/event/festival-of-trees/
LOCATION:4 – H Camp Kidwell\, 39000 1st Ave.\, Bloomingdale\, MI\, 49026\, United States
ORGANIZER;CN="4 - H Camp Kidwell":MAILTO:campkidwell@btc-bti.com
END:VEVENT
BEGIN:VEVENT
DTSTART;TZID=America/Detroit:20181201T180000
DTEND;TZID=America/Detroit:20181201T180000
DTSTAMP:20260424T195944
CREATED:20181024T150054Z
LAST-MODIFIED:20181024T150054Z
UID:8197-1543687200-1543687200@alleganchamber.org
SUMMARY:Beechpoint Christmas Banquet
DESCRIPTION:Join Camp Beechpoint in their spectacular Lodge for the Beechpoint Christmas Banquet and hear about what God has done in 2018 and what they are trusting Him for in 2019.  This is a new event – combining the Fall Banquet and Christmas in The Cove – that you will not want to miss. \nAll money raised at this event will help in supporting the ministry of Camp Beechpoint.  Ticket prices are $25 a plate.  You can purchase your tickets by hitting the button below\, or by calling the office and reserving your tickets (269)673-6155
URL:https://alleganchamber.org/event/beechpoint-christmas-banquet/
LOCATION:Camp Beechpoint\, 3212 125th Ave.\, Allegan\, MI\, 49010\, United States
ATTACH;FMTTYPE=image/png:https://alleganchamber.org/wp-content/uploads/2018/10/Christmas-Banquet-2018.png
END:VEVENT
BEGIN:VEVENT
DTSTART;TZID=America/Detroit:20181205T140000
DTEND;TZID=America/Detroit:20181205T190000
DTSTAMP:20260424T195944
CREATED:20181121T182841Z
LAST-MODIFIED:20181121T182841Z
UID:8356-1544018400-1544036400@alleganchamber.org
SUMMARY:AAESA Hiring Fair
DESCRIPTION:
URL:https://alleganchamber.org/event/aaesa-hiring-fair/
LOCATION:AAESA Educational Service Center\, 310 Thomas St.\, Allegan\, MI\, 49010\, United States
CATEGORIES:Chamber Member Event
ATTACH;FMTTYPE=image/jpeg:https://alleganchamber.org/wp-content/uploads/2018/11/AAESA-Hiring-Fair-12-5-18.jpg
ORGANIZER;CN="AAESA":MAILTO:sbill@alleganaesa.org
END:VEVENT
BEGIN:VEVENT
DTSTART;TZID=America/Detroit:20181206T170000
DTEND;TZID=America/Detroit:20181206T170000
DTSTAMP:20260424T195944
CREATED:20181025T121503Z
LAST-MODIFIED:20181114T164304Z
UID:8211-1544115600-1544115600@alleganchamber.org
SUMMARY:Holiday After Hours
DESCRIPTION:Buy Your TicketsHere! \nCelebrate the holiday season in your community: Join the Allegan Area Chamber of Commerce and Lynx Golf Course as they present Holiday After-Hours on December 6\, 5:00 PM to 8:00 PM.  The event will feature appetizers from The Lynx Grill\, live music by Clearwater\, a cash bar\, and silent and live auctions.  And you know that the elves will have bedecked the Lynx spectacularly. \nThis is a great opportunity to relax\, catch up with old friends\, network with area businesses\, and maybe even find the perfect gift for someone on your holiday shopping list. \nTickets for the event are $10.00 each and are available ONLINE HERE\, at the Allegan Area Chamber of Commerce office\, or by phone\, 269-673-2479. \n 
URL:https://alleganchamber.org/event/holiday-after-hours/
LOCATION:LYNX Golf Course\, 900 Lincoln Road\, Otsego\, MI\, 49078\, United States
CATEGORIES:5:01 p.m. After Hour Party,Chamber Events
ATTACH;FMTTYPE=image/jpeg:https://alleganchamber.org/wp-content/uploads/2018/10/2018-Poster.jpg
ORGANIZER;CN="Allegan Area Chamber of Commerce":MAILTO:director@alleganchamber.com
END:VEVENT
BEGIN:VEVENT
DTSTART;TZID=America/Detroit:20181208T100000
DTEND;TZID=America/Detroit:20181208T150000
DTSTAMP:20260424T195944
CREATED:20181121T184309Z
LAST-MODIFIED:20181121T184309Z
UID:8359-1544263200-1544281200@alleganchamber.org
SUMMARY:Allegan Fraternal Eagles Arts & Crafts Show
DESCRIPTION:
URL:https://alleganchamber.org/event/allegan-fraternal-eagles-arts-crafts-show/
LOCATION:Allegan Eagles\, 110 Chestnut St.\, Allegan\, MI\, 49010\, United States
ATTACH;FMTTYPE=image/jpeg:https://alleganchamber.org/wp-content/uploads/2018/11/Holiday-Craft-Show-2018.jpg
END:VEVENT
BEGIN:VEVENT
DTSTART;TZID=America/Detroit:20181215T180000
DTEND;TZID=America/Detroit:20181215T200000
DTSTAMP:20260424T195944
CREATED:20181128T233716Z
LAST-MODIFIED:20181128T233716Z
UID:8369-1544896800-1544904000@alleganchamber.org
SUMMARY:Christmas with The Allegan Brass Collective
DESCRIPTION:Get into the holiday spirit with some festive Christmas music by The Allegan Brass Collective\, a traditional brass quintet made up of local musicians who love to play non-traditional music ranging from spirituals to classic rock.  Space is limited.  Registration required.
URL:https://alleganchamber.org/event/christmas-with-the-allegan-brass-collective/
LOCATION:Griswold Auditorium\, 401 Hubbard St.\, Allegan\, MI\, 49010\, United States
ATTACH;FMTTYPE=image/jpeg:https://alleganchamber.org/wp-content/uploads/2018/11/Allegan-Brass.jpg
END:VEVENT
BEGIN:VEVENT
DTSTART;TZID=America/Detroit:20181221T200000
DTEND;TZID=America/Detroit:20181221T210000
DTSTAMP:20260424T195944
CREATED:20181212T161003Z
LAST-MODIFIED:20181212T161003Z
UID:8393-1545422400-1545426000@alleganchamber.org
SUMMARY:Clovis & The Delroys: Live @ FPC Allegan
DESCRIPTION:
URL:https://alleganchamber.org/event/clovis-the-delroys-live-fpc-allegan/
LOCATION:First Presbyterian Church\, 200 Cutler St\, Allegan\, 49010
CATEGORIES:Chamber Member Event
ATTACH;FMTTYPE=image/jpeg:https://alleganchamber.org/wp-content/uploads/2018/12/FPC-Community-Christmas-Concert.jpg
END:VEVENT
BEGIN:VEVENT
DTSTART;TZID=America/Detroit:20190103T183000
DTEND;TZID=America/Detroit:20190103T203000
DTSTAMP:20260424T195944
CREATED:20181219T144616Z
LAST-MODIFIED:20181219T144616Z
UID:8398-1546540200-1546547400@alleganchamber.org
SUMMARY:Euchre Thursdays
DESCRIPTION:
URL:https://alleganchamber.org/event/euchre-thursdays/
LOCATION:LYNX Golf Course\, 900 Lincoln Road\, Otsego\, MI\, 49078\, United States
CATEGORIES:Chamber Member Event
ATTACH;FMTTYPE=image/png:https://alleganchamber.org/wp-content/uploads/2018/12/euchre19.png
ORGANIZER;CN="Lynx Golf Course Grill":MAILTO:grill@lynxgc.com
END:VEVENT
BEGIN:VEVENT
DTSTART;TZID=America/Detroit:20190112T180000
DTEND;TZID=America/Detroit:20190112T180000
DTSTAMP:20260424T195944
CREATED:20181219T145145Z
LAST-MODIFIED:20190117T172711Z
UID:8401-1547316000-1547316000@alleganchamber.org
SUMMARY:Comedy @ The Lynx
DESCRIPTION:
URL:https://alleganchamber.org/event/comedy-the-lynx-2/
LOCATION:LYNX Golf Course\, 900 Lincoln Road\, Otsego\, MI\, 49078\, United States
CATEGORIES:Chamber Member Event
ATTACH;FMTTYPE=image/jpeg:https://alleganchamber.org/wp-content/uploads/2018/12/COmedy-1-12-19.jpg
ORGANIZER;CN="Lynx Golf Course Grill":MAILTO:grill@lynxgc.com
END:VEVENT
BEGIN:VEVENT
DTSTART;TZID=America/Detroit:20190122T100000
DTEND;TZID=America/Detroit:20190122T100000
DTSTAMP:20260424T195944
CREATED:20181107T132040Z
LAST-MODIFIED:20181219T134841Z
UID:8326-1548151200-1548151200@alleganchamber.org
SUMMARY:Ribbon Cutting: Allegan County Community Foundation
DESCRIPTION:Join the Allegan County Community Foundation on Tuesday\, January 22 at 10:00 AM to celebrate their move to 113 Locust Street in Downtown Allegan with an Allegan Area Chamber of Commerce Ribbon Cutting Ceremony. \nSince 1965\, the Allegan County Community Foundation has helped area residents maximize the effectiveness of their charitable giving. The ACCF is a public charity serving thousands of donors and non-profit agencies who share a common goal; improving the quality of life in Allegan County.
URL:https://alleganchamber.org/event/ribbon-cutting-allegan-county-community-foundation/
LOCATION:Allegan County Community Foundation\, 112 Locust St\, Allegan\, MI\, 49010\, United States
CATEGORIES:Chamber Member Event
ATTACH;FMTTYPE=image/jpeg:https://alleganchamber.org/wp-content/uploads/2018/11/ACCF-logo-RGB.jpg
END:VEVENT
BEGIN:VEVENT
DTSTART;VALUE=DATE:20190124
DTEND;VALUE=DATE:20190125
DTSTAMP:20260424T195944
CREATED:20190117T191718Z
LAST-MODIFIED:20190117T192941Z
UID:8498-1548288000-1548374399@alleganchamber.org
SUMMARY:Positive Options: Dining to Donate
DESCRIPTION:
URL:https://alleganchamber.org/event/positive-options-dining-to-donate/
LOCATION:Applebee’s Plainwell\, MI\, United States
CATEGORIES:Chamber Member Event
ATTACH;FMTTYPE=image/jpeg:https://alleganchamber.org/wp-content/uploads/2019/01/Applebees-dine-to-donate3.jpeg
END:VEVENT
BEGIN:VEVENT
DTSTART;TZID=America/Detroit:20190126T130000
DTEND;TZID=America/Detroit:20190126T160000
DTSTAMP:20260424T195944
CREATED:20181212T151248Z
LAST-MODIFIED:20181212T155759Z
UID:8389-1548507600-1548518400@alleganchamber.org
SUMMARY:Show Me The Money
DESCRIPTION:
URL:https://alleganchamber.org/event/show-me-the-money/
LOCATION:Immanuel Luthern Church Allegan\, 631 Grand St\, Allegan\, MI\, 49010\, United States
CATEGORIES:Chamber Member Event
ATTACH;FMTTYPE=image/jpeg:https://alleganchamber.org/wp-content/uploads/2018/12/Show-Me-the-Money-Day-Poster-2019.jpg
END:VEVENT
BEGIN:VEVENT
DTSTART;TZID=America/Detroit:20190128T160000
DTEND;TZID=America/Detroit:20190128T180000
DTSTAMP:20260424T195944
CREATED:20190123T165451Z
LAST-MODIFIED:20190123T165451Z
UID:8523-1548691200-1548698400@alleganchamber.org
SUMMARY:Journeys Advanced Illness Management Open House
DESCRIPTION:
URL:https://alleganchamber.org/event/journeys-advanced-illness-management-open-house/
LOCATION:Office of Dr. Gary Gulish\, 3587 12th St.\, Wayland\, MI\, 49348\, United States
CATEGORIES:Chamber Member Event
ATTACH;FMTTYPE=image/jpeg:https://alleganchamber.org/wp-content/uploads/2019/01/Flyer-for-Dr-Gulish-OPEN-HOUSE.jpg
END:VEVENT
BEGIN:VEVENT
DTSTART;TZID=America/Detroit:20190201T190000
DTEND;TZID=America/Detroit:20190201T190000
DTSTAMP:20260424T195944
CREATED:20190130T155558Z
LAST-MODIFIED:20190130T155558Z
UID:8542-1549047600-1549047600@alleganchamber.org
SUMMARY:Allegan Community Players One Acts Festival
DESCRIPTION:The One Acts Festival is a people’s choice contest. That means the audience are the judges. The play that has the highest total dollar amount\, wins the contest of bragging writes. This is our fundraising event so the contest winnings are donated to Allegan Community Players next summer musical production.
URL:https://alleganchamber.org/event/allegan-community-players-one-acts-festival/
LOCATION:Griswold Auditorium\, 401 Hubbard St.\, Allegan\, MI\, 49010\, United States
CATEGORIES:Chamber Member Event
ATTACH;FMTTYPE=image/jpeg:https://alleganchamber.org/wp-content/uploads/2019/01/One-Acts-2019.jpg
END:VEVENT
BEGIN:VEVENT
DTSTART;VALUE=DATE:20190202
DTEND;VALUE=DATE:20190203
DTSTAMP:20260424T195944
CREATED:20190130T161127Z
LAST-MODIFIED:20190130T161241Z
UID:8550-1549065600-1549151999@alleganchamber.org
SUMMARY:2019 ACSC  Snowfest & Fun Run
DESCRIPTION:
URL:https://alleganchamber.org/event/2019-acsc-snowfest-fun-run/
LOCATION:Allegan County Snowmobile Club\, 1697 36th Ave.\, Allegan\, 49010\, United States
CATEGORIES:Chamber Member Event
ATTACH;FMTTYPE=image/jpeg:https://alleganchamber.org/wp-content/uploads/2019/01/SnowFest2019SponsorFlyer.jpg
END:VEVENT
BEGIN:VEVENT
DTSTART;TZID=America/Detroit:20190202T190000
DTEND;TZID=America/Detroit:20190202T190000
DTSTAMP:20260424T195944
CREATED:20190130T160023Z
LAST-MODIFIED:20190130T160023Z
UID:8546-1549134000-1549134000@alleganchamber.org
SUMMARY:Allegan Community Players One Acts Festival
DESCRIPTION:The One Acts Festival is a people’s choice contest. That means the audience are the judges. The play that has the highest total dollar amount\, wins the contest of bragging writes. This is our fundraising event so the contest winnings are donated to Allegan Community Players next summer musical production.
URL:https://alleganchamber.org/event/allegan-community-players-one-acts-festival-2/
LOCATION:Griswold Auditorium\, 401 Hubbard St.\, Allegan\, MI\, 49010\, United States
CATEGORIES:Chamber Member Event
ATTACH;FMTTYPE=image/jpeg:https://alleganchamber.org/wp-content/uploads/2019/01/One-Acts-2019.jpg
END:VEVENT
BEGIN:VEVENT
DTSTART;TZID=America/Detroit:20190203T140000
DTEND;TZID=America/Detroit:20190203T140000
DTSTAMP:20260424T195944
CREATED:20190130T160358Z
LAST-MODIFIED:20190130T160358Z
UID:8548-1549202400-1549202400@alleganchamber.org
SUMMARY:Allegan Community Players One Acts Festival
DESCRIPTION:The One Acts Festival is a people’s choice contest. That means the audience are the judges. The play that has the highest total dollar amount\, wins the contest of bragging writes. This is our fundraising event so the contest winnings are donated to Allegan Community Players next summer musical production.
URL:https://alleganchamber.org/event/allegan-community-players-one-acts-festival-3/
LOCATION:Griswold Auditorium\, 401 Hubbard St.\, Allegan\, MI\, 49010\, United States
CATEGORIES:Chamber Member Event
ATTACH;FMTTYPE=image/jpeg:https://alleganchamber.org/wp-content/uploads/2019/01/One-Acts-2019.jpg
END:VEVENT
BEGIN:VEVENT
DTSTART;TZID=America/Detroit:20190209T180000
DTEND;TZID=America/Detroit:20190209T180000
DTSTAMP:20260424T195944
CREATED:20190123T170859Z
LAST-MODIFIED:20190206T135414Z
UID:8527-1549735200-1549735200@alleganchamber.org
SUMMARY:Comedy @ The Lynx
DESCRIPTION:
URL:https://alleganchamber.org/event/comedy-the-lynx-bill-bushart/
LOCATION:LYNX Golf Course\, 900 Lincoln Road\, Otsego\, MI\, 49078\, United States
ATTACH;FMTTYPE=image/jpeg:https://alleganchamber.org/wp-content/uploads/2019/01/Comedy-2-9-19.jpg
ORGANIZER;CN="Lynx Golf Course Grill":MAILTO:grill@lynxgc.com
END:VEVENT
BEGIN:VEVENT
DTSTART;TZID=America/Detroit:20190218T110000
DTEND;TZID=America/Detroit:20190218T130000
DTSTAMP:20260424T195944
CREATED:20190117T172631Z
LAST-MODIFIED:20190117T172631Z
UID:8491-1550487600-1550494800@alleganchamber.org
SUMMARY:West Michigan Regional Transportation Summit
DESCRIPTION:
URL:https://alleganchamber.org/event/west-michigan-regional-transportation-summit/
LOCATION:Double Tree Hilton Holland\, 650 E. 24th St.\, Holland\, MI\, 49010\, United States
ATTACH;FMTTYPE=image/png:https://alleganchamber.org/wp-content/uploads/2019/01/Regional-Transportation-Summit.png
END:VEVENT
BEGIN:VEVENT
DTSTART;TZID=America/Detroit:20190223T180000
DTEND;TZID=America/Detroit:20190223T180000
DTSTAMP:20260424T195944
CREATED:20190206T134353Z
LAST-MODIFIED:20190206T134353Z
UID:8562-1550944800-1550944800@alleganchamber.org
SUMMARY:Chili Cook-off @ Christ Community Church
DESCRIPTION:
URL:https://alleganchamber.org/event/chili-cook-off-christ-community-church/
LOCATION:Allegan Christ Community Church\, 3370 113th Ave\, Allegan\, MI\, 49010\, United States
CATEGORIES:Chamber Member Event
ATTACH;FMTTYPE=image/jpeg:https://alleganchamber.org/wp-content/uploads/2019/02/Chili-with-logo-2019.jpg
END:VEVENT
BEGIN:VEVENT
DTSTART;TZID=America/Detroit:20190226T170000
DTEND;TZID=America/Detroit:20190226T200000
DTSTAMP:20260424T195944
CREATED:20190206T135031Z
LAST-MODIFIED:20190206T140519Z
UID:8567-1551200400-1551211200@alleganchamber.org
SUMMARY:Positive Options Pizza Hut Fundraiser
DESCRIPTION:
URL:https://alleganchamber.org/event/positive-options-pizza-hut-fundraiser/
LOCATION:Allegan Pizza Hut\, 107 Locust St.\, Allegan\, MI\, 49010\, United States
ATTACH;FMTTYPE=image/png:https://alleganchamber.org/wp-content/uploads/2019/02/Pizzahut-fundraiser-flyer-2019-1.png
END:VEVENT
BEGIN:VEVENT
DTSTART;TZID=America/Detroit:20190228T170000
DTEND;TZID=America/Detroit:20190228T170000
DTSTAMP:20260424T195944
CREATED:20190212T144252Z
LAST-MODIFIED:20190220T203630Z
UID:8577-1551373200-1551373200@alleganchamber.org
SUMMARY:5:01 Party & Ribbon Cutting @ Something Sweet for You
DESCRIPTION:Something Sweet for You invites you to a 5:01 Party to celebrate its next chapter in Downtown Allegan on Thursday\, February 28.  An Allegan Area Chamber of Commerce Ribbon Cutting Ceremony will part of the festivities at 5:00 PM.  Refreshments will be served. \nTrish and Andy Winter and Deb and Mark Heather purchased Something Sweet from Diana and Bill Doest who founded and nurtured the business almost 19 years ago.  Through their hard work and tireless dedication\, offering exceptional products and even better customer service\, the Doests built Something Sweet into a venerable Allegan retail institution.  The Winters and Heathers are sure to build upon that foundation for years to come. \nWe hope you can join us and wish them well as they embark on this endeavor.
URL:https://alleganchamber.org/event/501-party-ribbon-cutting-something-sweet-for-you/
LOCATION:Something Sweet for You\, 109 Locust St.\, Allegan\, MI\, 49010\, United States
CATEGORIES:Chamber Member Event
ATTACH;FMTTYPE=image/jpeg:https://alleganchamber.org/wp-content/uploads/2019/02/Something-Sweet-RC.jpg
END:VEVENT
BEGIN:VEVENT
DTSTART;VALUE=DATE:20190301
DTEND;VALUE=DATE:20190401
DTSTAMP:20260424T195944
CREATED:20190305T160249Z
LAST-MODIFIED:20190305T222315Z
UID:8624-1551398400-1554076799@alleganchamber.org
SUMMARY:Wishbone Pet Rescue Fundraiser at Allegan County Chiropractic
DESCRIPTION:Recently Allegan County Chiropractic lost their “therapy” dog Samantha and\, in her honor\, is promoting a great opportunity. \nFor the month of March all New Patients may donate $47.00 to Wishbone Pet Rescue.  As a thank you gift\, You receive an exam and spinal x-rays for Free to help You begin your road to health (offer excludes Medicare and Medicaid). \nQuestion or to make an appointment contact Allegan County Chiropractic at 269-673-5426 or alleganchiropractic@gmail.com
URL:https://alleganchamber.org/event/wishbone-pet-rescue-fundraiser-at-allegan-county-chiropractic/
LOCATION:Allegan County Chiropractic Health Center\, 279 Thomas St.\, Allean\, MI\, 49010\, United States
CATEGORIES:Chamber Member Event
ATTACH;FMTTYPE=image/jpeg:https://alleganchamber.org/wp-content/uploads/2019/03/Wishbone-Fundraiser-ACCHC-2019-e1551800627556.jpg
ORGANIZER;CN="Allegan County Chiropractic Health Center":MAILTO:alleganchiropractic@gmail.com
END:VEVENT
BEGIN:VEVENT
DTSTART;TZID=America/Detroit:20190302T190000
DTEND;TZID=America/Detroit:20190302T230000
DTSTAMP:20260424T195944
CREATED:20190221T142508Z
LAST-MODIFIED:20190221T142508Z
UID:8601-1551553200-1551567600@alleganchamber.org
SUMMARY:80's Dance Party @ The Silo
DESCRIPTION:Flashback to the 80’s with a dance party at The Silo. Come dressed in your best 80’s attire and shake off those winter blues! \nNO COVER!\nDJ\nCash Bar (credit cards accepted)\nPizza Specials
URL:https://alleganchamber.org/event/80s-dance-party-the-silo/
LOCATION:The Silo Banquets and Catering\, 1071 32nd St. (M-40 South)\, Allegan\, MI\, 49010\, United States
CATEGORIES:Chamber Member Event
ATTACH;FMTTYPE=image/jpeg:https://alleganchamber.org/wp-content/uploads/2019/02/52536878_2490973427644726_1183474085179424768_o.jpg
END:VEVENT
BEGIN:VEVENT
DTSTART;TZID=America/Detroit:20190309T180000
DTEND;TZID=America/Detroit:20190309T180000
DTSTAMP:20260424T195944
CREATED:20190227T170533Z
LAST-MODIFIED:20190227T170533Z
UID:8620-1552154400-1552154400@alleganchamber.org
SUMMARY:Comedy @ The Lynx: Jerry Donovan
DESCRIPTION:
URL:https://alleganchamber.org/event/comedy-the-lynx-jerry-donovan/
LOCATION:LYNX Golf Course\, 900 Lincoln Road\, Otsego\, MI\, 49078\, United States
CATEGORIES:Chamber Member Event
ATTACH;FMTTYPE=image/jpeg:https://alleganchamber.org/wp-content/uploads/2019/02/52816688_2170662966313999_5775348892644147200_n.jpg
ORGANIZER;CN="Lynx Golf Course Grill":MAILTO:grill@lynxgc.com
END:VEVENT
BEGIN:VEVENT
DTSTART;TZID=America/Detroit:20190315T190000
DTEND;TZID=America/Detroit:20190315T190000
DTSTAMP:20260424T195944
CREATED:20190214T192616Z
LAST-MODIFIED:20190227T170227Z
UID:8584-1552676400-1552676400@alleganchamber.org
SUMMARY:34th Annual Cabaret Band Show
DESCRIPTION:New for 2019 –  Pre-party each night in the Griswold lower level (Mar 15\, 16\, 22\, 23).  Doors open at 5:30 for party time.  Meet the Cast!  Food and drinks available: $5 plate\, Sloppy Joe or Coney Dog\, Chips\, also a cash bar.  Proceeds go to Wings of Hope and Allegan Area Arts Council.  We’ll have a big screen TV running videotapes of past Cabaret Shows.  Great night of fun\, friends\, and nostalgia.  Easy parking.
URL:https://alleganchamber.org/event/34th-annual-cabaret-band-show/
LOCATION:Griswold Auditorium\, 401 Hubbard St.\, Allegan\, MI\, 49010\, United States
ATTACH;FMTTYPE=image/png:https://alleganchamber.org/wp-content/uploads/2019/02/50580494_10161423586815461_1923404492519243776_o-1.png
END:VEVENT
BEGIN:VEVENT
DTSTART;TZID=America/Detroit:20190316T090000
DTEND;TZID=America/Detroit:20190316T230000
DTSTAMP:20260424T195944
CREATED:20190214T195904Z
LAST-MODIFIED:20190214T195917Z
UID:8596-1552726800-1552777200@alleganchamber.org
SUMMARY:Walk for Warmth
DESCRIPTION:Community Action is excited to join the statewide effort to raise awareness concerning people experiencing heat-related emergencies with our “Walk for Warmth” 5K Run/Walk at The Lynx in Otsego from 9am to 11am.  Our “Walk for Warmth” will shine a spotlight on the need for emergency utility assistance in Allegan County and raise funds for families in Allegan County facing shut-off notices.
URL:https://alleganchamber.org/event/walk-for-warmth/
LOCATION:LYNX Golf Course\, 900 Lincoln Road\, Otsego\, MI\, 49078\, United States
CATEGORIES:Chamber Member Event
ATTACH;FMTTYPE=image/png:https://alleganchamber.org/wp-content/uploads/2019/02/Walk-for-Warmth-2019.png
END:VEVENT
BEGIN:VEVENT
DTSTART;TZID=America/Detroit:20190316T180000
DTEND;TZID=America/Detroit:20190316T203000
DTSTAMP:20260424T195944
CREATED:20190307T142116Z
LAST-MODIFIED:20190307T142116Z
UID:8630-1552759200-1552768200@alleganchamber.org
SUMMARY:Cash Party
DESCRIPTION:
URL:https://alleganchamber.org/event/cash-party/
LOCATION:LYNX Golf Course\, 900 Lincoln Road\, Otsego\, MI\, 49078\, United States
CATEGORIES:Chamber Member Event
ATTACH;FMTTYPE=image/jpeg:https://alleganchamber.org/wp-content/uploads/2019/03/Cssh-Party-2019.jpg
END:VEVENT
BEGIN:VEVENT
DTSTART;TZID=America/Detroit:20190316T190000
DTEND;TZID=America/Detroit:20190316T190000
DTSTAMP:20260424T195944
CREATED:20190214T193036Z
LAST-MODIFIED:20190214T193327Z
UID:8589-1552762800-1552762800@alleganchamber.org
SUMMARY:34th Annual Cabaret Band Show
DESCRIPTION:New for 2019 –  Pre-party each night in the Griswold lower level (Mar 15\, 16\, 22\, 23).  Doors open at 5:30 for party time.  Meet the Cast!  Food and drinks available: $5 plate\, Sloppy Joe or Coney Dog\, Chips\, also a cash bar.  Proceeds go to Wings of Hope and Allegan Area Arts Council.  We’ll have a big screen TV running videotapes of past Cabaret Shows.  Great night of fun\, friends\, and nostalgia.  Easy parking.
URL:https://alleganchamber.org/event/34th-annual-cabaret-band-show-2/
LOCATION:Griswold Auditorium\, 401 Hubbard St.\, Allegan\, MI\, 49010\, United States
ATTACH;FMTTYPE=image/png:https://alleganchamber.org/wp-content/uploads/2019/02/50580494_10161423586815461_1923404492519243776_o-1.png
END:VEVENT
BEGIN:VEVENT
DTSTART;TZID=America/Detroit:20190319T180000
DTEND;TZID=America/Detroit:20190319T200000
DTSTAMP:20260424T195944
CREATED:20190227T164037Z
LAST-MODIFIED:20190227T164037Z
UID:8616-1553018400-1553025600@alleganchamber.org
SUMMARY:RiverTalk Allegan: Third Coast Conversations
DESCRIPTION:
URL:https://alleganchamber.org/event/rivertalk-allegan-third-coast-conversations/
LOCATION:Griswold Auditorium\, 401 Hubbard St.\, Allegan\, MI\, 49010\, United States
ATTACH;FMTTYPE=image/jpeg:https://alleganchamber.org/wp-content/uploads/2019/02/RiverTalk-flyer.jpg
END:VEVENT
END:VCALENDAR