BEGIN:VCALENDAR
VERSION:2.0
PRODID:-//Allegan Area Chamber - ECPv6.15.20//NONSGML v1.0//EN
CALSCALE:GREGORIAN
METHOD:PUBLISH
X-WR-CALNAME:Allegan Area Chamber
X-ORIGINAL-URL:https://alleganchamber.org
X-WR-CALDESC:Events for Allegan Area Chamber
REFRESH-INTERVAL;VALUE=DURATION:PT1H
X-Robots-Tag:noindex
X-PUBLISHED-TTL:PT1H
BEGIN:VTIMEZONE
TZID:America/Detroit
BEGIN:DAYLIGHT
TZOFFSETFROM:-0500
TZOFFSETTO:-0400
TZNAME:EDT
DTSTART:20180311T070000
END:DAYLIGHT
BEGIN:STANDARD
TZOFFSETFROM:-0400
TZOFFSETTO:-0500
TZNAME:EST
DTSTART:20181104T060000
END:STANDARD
BEGIN:DAYLIGHT
TZOFFSETFROM:-0500
TZOFFSETTO:-0400
TZNAME:EDT
DTSTART:20190310T070000
END:DAYLIGHT
BEGIN:STANDARD
TZOFFSETFROM:-0400
TZOFFSETTO:-0500
TZNAME:EST
DTSTART:20191103T060000
END:STANDARD
BEGIN:DAYLIGHT
TZOFFSETFROM:-0500
TZOFFSETTO:-0400
TZNAME:EDT
DTSTART:20200308T070000
END:DAYLIGHT
BEGIN:STANDARD
TZOFFSETFROM:-0400
TZOFFSETTO:-0500
TZNAME:EST
DTSTART:20201101T060000
END:STANDARD
END:VTIMEZONE
BEGIN:VEVENT
DTSTART;TZID=America/Detroit:20191019T180000
DTEND;TZID=America/Detroit:20191019T210000
DTSTAMP:20260420T064129
CREATED:20191002T121929Z
LAST-MODIFIED:20191002T121929Z
UID:9523-1571508000-1571518800@alleganchamber.org
SUMMARY:Food Pantry Benefit Concert @ Christ Community Church
DESCRIPTION:
URL:https://alleganchamber.org/event/food-pantry-benefit-concert-christ-community-church/
LOCATION:Allegan Christ Community Church\, 3370 113th Ave\, Allegan\, MI\, 49010\, United States
CATEGORIES:Chamber Member Event
ATTACH;FMTTYPE=image/png:https://alleganchamber.org/wp-content/uploads/2019/10/Food-Pantry-POSTER-web.png
END:VEVENT
BEGIN:VEVENT
DTSTART;TZID=America/Detroit:20191019T170000
DTEND;TZID=America/Detroit:20191019T200000
DTSTAMP:20260420T064129
CREATED:20191002T145442Z
LAST-MODIFIED:20191002T145442Z
UID:9526-1571504400-1571515200@alleganchamber.org
SUMMARY:JCI Allegan's 80th Anniversary Celebration
DESCRIPTION:
URL:https://alleganchamber.org/event/jci-allegans-80th-anniversary-celebration/
LOCATION:Hartman Conference Center\, 690 Airway Drive\, Allegan\, MI\, 49010\, United States
CATEGORIES:Chamber Member Event
ATTACH;FMTTYPE=image/jpeg:https://alleganchamber.org/wp-content/uploads/2019/10/70688437_2367185976735214_4066636582457704448_n.jpg
END:VEVENT
BEGIN:VEVENT
DTSTART;TZID=America/Detroit:20191019T080000
DTEND;TZID=America/Detroit:20191019T130000
DTSTAMP:20260420T064129
CREATED:20191016T165444Z
LAST-MODIFIED:20191016T165444Z
UID:9559-1571472000-1571490000@alleganchamber.org
SUMMARY:Allegan Lions Pancake Day
DESCRIPTION:
URL:https://alleganchamber.org/event/allegan-lions-pancake-day/
LOCATION:Blessed Sacrament Catholic Church\, 110 N. Cedar St.\, Allegan\, MI\, 49010\, United States
ATTACH;FMTTYPE=image/jpeg:https://alleganchamber.org/wp-content/uploads/2019/10/73458717_2363445587086133_6400758742974988288_o.jpg
END:VEVENT
BEGIN:VEVENT
DTSTART;TZID=America/Detroit:20191015T180000
DTEND;TZID=America/Detroit:20191015T180000
DTSTAMP:20260420T064129
CREATED:20190822T134454Z
LAST-MODIFIED:20191001T151458Z
UID:9397-1571162400-1571162400@alleganchamber.org
SUMMARY:Allegan City Council Candidates Forum
DESCRIPTION:With the shared mission of providing reliable and timely information\, as well as representing the well-being of our community and local economy\, the Allegan District Library\, in partnership with the Allegan Area Chamber of Commerce and the Allegan County News\, will host a formal question-and-answer forum in advance of the November 5th election of City Council members. \nThis is your opportunity to meet the candidates\, learn about their positions on relevant issues\, and to measure their demeanor and competence when addressing those issues in public.  The forum will include introductions and opening position statements followed by the delivery of prepared and audience questions.  Each candidate will be permitted to answer or decline each of the questions.  The event will follow a forum protocol and is not a debate.  The forum will be streamed to Facebook Live.  Like the City Council roles\, the forum will be strictly independent of sectarian affiliation\, will be non-partisan\, and non-denominational in its approach to the question and answers. \nTo submit a question for consideration in advance of the forum\, email it to Library Director Ryan Deery at rdeery@alleganlibrary.org. Please be aware that time constraints and other factors will determine which and how many audience questions are utilized.
URL:https://alleganchamber.org/event/allegan-city-council-candidates-forum/
LOCATION:Allegan District Library\, 331 Hubbard St\, Allegan\, MI\, 49010\, United States
CATEGORIES:Chamber Events,Chamber Member Event
ATTACH;FMTTYPE=image/png:https://alleganchamber.org/wp-content/uploads/2019/08/Candidates-Forum.png
ORGANIZER;CN="Allegan Area Chamber of Commerce":MAILTO:director@alleganchamber.com
END:VEVENT
BEGIN:VEVENT
DTSTART;TZID=America/Detroit:20191012T100000
DTEND;TZID=America/Detroit:20191012T100000
DTSTAMP:20260420T064129
CREATED:20190912T123533Z
LAST-MODIFIED:20190912T143522Z
UID:9422-1570874400-1570874400@alleganchamber.org
SUMMARY:Ribbon Cutting: Riverbanks Pet Resort
DESCRIPTION:Join us at Riverbanks Pet Resort as we congratulate Michelle Jackson – you know her as MJ – as its new owner with an Allegan Area Chamber of Commerce Ribbon Cutting Ceremony on Saturday\, October 12\, 10:00 AM.
URL:https://alleganchamber.org/event/ribbon-cutting-riverbanks-pet-resort/
LOCATION:Riverbanks Pet Resort\, 98 Water St\, Allegan\, MI\, 49010\, United States
ATTACH;FMTTYPE=image/jpeg:https://alleganchamber.org/wp-content/uploads/2019/09/ribbon-cutting-page-0.jpg
ORGANIZER;CN="Riverbanks Pet Resort":MAILTO:riverbanksltd@yahoo.com
END:VEVENT
BEGIN:VEVENT
DTSTART;TZID=America/Detroit:20191010T180000
DTEND;TZID=America/Detroit:20191010T180000
DTSTAMP:20260420T064129
CREATED:20191009T124226Z
LAST-MODIFIED:20191009T124226Z
UID:9539-1570730400-1570730400@alleganchamber.org
SUMMARY:Regent Theatre Centennial Celebration
DESCRIPTION:Celebrate 100 years of the Regent Theatre! \nJoin us on Thursday\, October 10 for a semi-formal open house event from 6:00-7:00pm\, with a screening of Harold Lloyd’s 1919 comedy short film\, Bumping Into Broadway\, at 7pm. The film will be preceded by The Tantalizing Fly\, a 1919 cartoon by animation pioneer\, Max Fleischer. Admission is $.50 — the price of the first ticket sold at the Regent Theatre in 1919. \nIn addition to appreciating the past with a slideshow\, self-guided tours\, and a brief keynote\, enjoy the present with the debut of new concession stand candy\, merchandise on sale in the lobby\, and fundraising efforts for future projects.
URL:https://alleganchamber.org/event/regent-theatre-centennial-celebration/
LOCATION:Regent Theatre\, 211 Trowbridge\, Downtown Allegan\, MI\, 49010\, United States
ATTACH;FMTTYPE=image/jpeg:https://alleganchamber.org/wp-content/uploads/2019/10/70961049_10157620949324813_7319190099965509632_o.jpg
END:VEVENT
BEGIN:VEVENT
DTSTART;TZID=America/Detroit:20191010T173000
DTEND;TZID=America/Detroit:20191010T173000
DTSTAMP:20260420T064129
CREATED:20190911T154454Z
LAST-MODIFIED:20190916T121326Z
UID:9435-1570728600-1570728600@alleganchamber.org
SUMMARY:Sylvia's Place Fall Festival
DESCRIPTION:Please join us in our mission to provide and sustain a safe environment for women\, children\, and men through preventative education and advocacy which promote stronger individuals\, families and communities. \nClick for more information
URL:https://alleganchamber.org/event/sylvias-place-fall-festival/
LOCATION:The Silo Banquets and Catering\, 1071 32nd St. (M-40 South)\, Allegan\, MI\, 49010\, United States
CATEGORIES:Chamber Member Event
ATTACH;FMTTYPE=image/png:https://alleganchamber.org/wp-content/uploads/2019/09/69652112_2985325481539331_3054482622387322880_n.png
END:VEVENT
BEGIN:VEVENT
DTSTART;VALUE=DATE:20191005
DTEND;VALUE=DATE:20191006
DTSTAMP:20260420T064129
CREATED:20190918T161953Z
LAST-MODIFIED:20190918T162914Z
UID:9466-1570233600-1570319999@alleganchamber.org
SUMMARY:Joe Kavanagh Scholarship Fundraiser
DESCRIPTION:
URL:https://alleganchamber.org/event/joe-kavanagh-scholarship-fundraiser/
LOCATION:Allegan\, 49010
CATEGORIES:Chamber Member Event
ATTACH;FMTTYPE=image/jpeg:https://alleganchamber.org/wp-content/uploads/2019/09/Kavanagh-Scholarship-2019-1.jpg
END:VEVENT
BEGIN:VEVENT
DTSTART;TZID=America/Detroit:20191004T160000
DTEND;TZID=America/Detroit:20191004T160000
DTSTAMP:20260420T064129
CREATED:20190919T141708Z
LAST-MODIFIED:20190919T141708Z
UID:9474-1570204800-1570204800@alleganchamber.org
SUMMARY:Ribbon Cutting: Board & Brush
DESCRIPTION:Join the Allegan Area Chamber of Commerce as we celebrate the Grand Opening of Board and Brush with an Allegan Area Chamber of Commerce Ribbon Cutting Ceremony at 4:00 PM\, Friday\, October 4.  Board and Brush is located at 116 Locust St. \nBoard & Brush Creative Studio is a place for creating fun and unique wood decor projects from scratch while enjoying a fun instructor led atmosphere.
URL:https://alleganchamber.org/event/ribbon-cutting-board-brush/
LOCATION:Board & Brush\, 116 Locust St.\, Allegan\, MI\, 49010\, United States
CATEGORIES:Chamber Events,Networking Series
ATTACH;FMTTYPE=image/jpeg:https://alleganchamber.org/wp-content/uploads/2019/09/Board-Brush-Ribbon-Cutting-Collage-e1568902579429.jpg
END:VEVENT
BEGIN:VEVENT
DTSTART;TZID=America/Detroit:20190929T080000
DTEND;TZID=America/Detroit:20190929T160000
DTSTAMP:20260420T064129
CREATED:20190410T174409Z
LAST-MODIFIED:20190410T174409Z
UID:8799-1569744000-1569772800@alleganchamber.org
SUMMARY:Allegan Antiques Market
DESCRIPTION:
URL:https://alleganchamber.org/event/allegan-antiques-market-7/
LOCATION:Allegan County Fairgrounds\, 150 Allegan County Fair Drive\, Allegan\, MI\, 49010\, United States
CATEGORIES:Chamber Member Event
ATTACH;FMTTYPE=image/png:https://alleganchamber.org/wp-content/uploads/2019/04/logo.png
END:VEVENT
BEGIN:VEVENT
DTSTART;TZID=America/Detroit:20190928T170000
DTEND;TZID=America/Detroit:20190928T210000
DTSTAMP:20260420T064129
CREATED:20190924T150328Z
LAST-MODIFIED:20190924T150405Z
UID:9493-1569690000-1569704400@alleganchamber.org
SUMMARY:Allegan Lions Club Community Social
DESCRIPTION:
URL:https://alleganchamber.org/event/allegan-lions-club-community-social/
LOCATION:Allegan Eagles\, 110 Chestnut St.\, Allegan\, MI\, 49010\, United States
CATEGORIES:Chamber Member Event
ATTACH;FMTTYPE=image/jpeg:https://alleganchamber.org/wp-content/uploads/2019/09/Community-Social.jpg
END:VEVENT
BEGIN:VEVENT
DTSTART;TZID=America/Detroit:20190928T090000
DTEND;TZID=America/Detroit:20190928T180000
DTSTAMP:20260420T064129
CREATED:20190924T173627Z
LAST-MODIFIED:20190925T151339Z
UID:9496-1569661200-1569693600@alleganchamber.org
SUMMARY:50% Off Sale at Goodwill
DESCRIPTION:
URL:https://alleganchamber.org/event/super-saturday-sale/
LOCATION:Goodwill Store Allegan\, 1568 M-40 N\, Allegan\, 49010\, United States
ATTACH;FMTTYPE=image/jpeg:https://alleganchamber.org/wp-content/uploads/2019/09/fall-sale.jpg
END:VEVENT
BEGIN:VEVENT
DTSTART;TZID=America/Detroit:20190928T090000
DTEND;TZID=America/Detroit:20190928T090000
DTSTAMP:20260420T064129
CREATED:20190904T115013Z
LAST-MODIFIED:20190904T115013Z
UID:9411-1569661200-1569661200@alleganchamber.org
SUMMARY:Jailbreak 5K
DESCRIPTION:Think you can outrun the police? Here’s your chance to try! \nLaw enforcement has teamed up with Safe Harbor Children’s Advocacy Center to host their second Badges and Bravery 5k.  Civilian racers have a head start and will have the opportunity to run from police after escaping jail.  Law enforcement and other first responders need to catch up and “catch” the escapees.  All proceeds from the event will go toward Safe Harbor who’s mission is to provide a lifeline to victims of child abuse and neglect. \nSign up now for Safe Harbor’s Jailbreak 5k to run from the cops!
URL:https://alleganchamber.org/event/jailbreak-5k/
LOCATION:Camp Jijak\, 2558 20th St.\, Allegan\, MI\, 49010\, United States
CATEGORIES:Chamber Member Event
ATTACH;FMTTYPE=image/jpeg:https://alleganchamber.org/wp-content/uploads/2019/09/Jailbreak-5k-2019.jpg
END:VEVENT
BEGIN:VEVENT
DTSTART;TZID=America/Detroit:20190927T180000
DTEND;TZID=America/Detroit:20190927T230000
DTSTAMP:20260420T064129
CREATED:20190925T115916Z
LAST-MODIFIED:20190925T151213Z
UID:9502-1569607200-1569625200@alleganchamber.org
SUMMARY:End of Summer Bike Night
DESCRIPTION:Contact the Allegan Eagles to donate auction items.  All proceeds support local veterans through Purple Heart Homes of West Michigan.
URL:https://alleganchamber.org/event/end-of-summer-bike-night/
LOCATION:Allegan Eagles\, 110 Chestnut St.\, Allegan\, MI\, 49010\, United States
ATTACH;FMTTYPE=image/jpeg:https://alleganchamber.org/wp-content/uploads/2019/09/Bike-Night-Sept-2019-e1569424294861.jpg
END:VEVENT
BEGIN:VEVENT
DTSTART;TZID=America/Detroit:20190927T110000
DTEND;TZID=America/Detroit:20190927T180000
DTSTAMP:20260420T064129
CREATED:20190918T165857Z
LAST-MODIFIED:20190918T165857Z
UID:9471-1569582000-1569607200@alleganchamber.org
SUMMARY:Ribfest @ Village Market
DESCRIPTION:
URL:https://alleganchamber.org/event/ribfest-village-market-2/
LOCATION:Village Market – Allegan\, 100 Monroe St.\, Allegan\, MI\, 49010\, United States
CATEGORIES:Chamber Member Event
ATTACH;FMTTYPE=image/jpeg:https://alleganchamber.org/wp-content/uploads/2019/09/Ribfest-9-27-19.jpg
END:VEVENT
BEGIN:VEVENT
DTSTART;TZID=America/Detroit:20190920T130000
DTEND;TZID=America/Detroit:20190920T153000
DTSTAMP:20260420T064129
CREATED:20190918T150950Z
LAST-MODIFIED:20190918T150950Z
UID:9463-1568984400-1568993400@alleganchamber.org
SUMMARY:Bake Sale @ Ely Manor
DESCRIPTION:
URL:https://alleganchamber.org/event/bake-sale-ely-manor/
LOCATION:Ely Manor\, 1200 Ely St\, Allegan\, MI\, 49010\, United States
CATEGORIES:Chamber Member Event
ATTACH;FMTTYPE=image/jpeg:https://alleganchamber.org/wp-content/uploads/2019/09/bake-sale.jpg
END:VEVENT
BEGIN:VEVENT
DTSTART;TZID=America/Detroit:20190914T100000
DTEND;TZID=America/Detroit:20190914T140000
DTSTAMP:20260420T064129
CREATED:20190904T141913Z
LAST-MODIFIED:20190904T141913Z
UID:9418-1568455200-1568469600@alleganchamber.org
SUMMARY:Wag\, Walk\, & Wine
DESCRIPTION:
URL:https://alleganchamber.org/event/wag-walk-wine/
LOCATION:Wade Bayou Park\, Center St\, Douglas\, MI\, United States
CATEGORIES:Chamber Member Event
ATTACH;FMTTYPE=image/jpeg:https://alleganchamber.org/wp-content/uploads/2019/09/Wag-n-walk-Banner-2019.jpg
END:VEVENT
BEGIN:VEVENT
DTSTART;TZID=America/Detroit:20190903T144500
DTEND;TZID=America/Detroit:20190903T164500
DTSTAMP:20260420T064129
CREATED:20190822T162104Z
LAST-MODIFIED:20190903T133056Z
UID:9391-1567521900-1567529100@alleganchamber.org
SUMMARY:Back to School with Kona Ice
DESCRIPTION:
URL:https://alleganchamber.org/event/kona-ice-briarwood-assisted-living/
LOCATION:Briarwood Assisted Living & Memory Care\, 620 Ely St.\, Allegan\, MI\, 49010\, United States
CATEGORIES:Chamber Member Event
ATTACH;FMTTYPE=image/jpeg:https://alleganchamber.org/wp-content/uploads/2019/08/KONA-ICE-1.jpg
END:VEVENT
BEGIN:VEVENT
DTSTART;TZID=America/Detroit:20190831T080000
DTEND;TZID=America/Detroit:20190831T080000
DTSTAMP:20260420T064129
CREATED:20190801T131554Z
LAST-MODIFIED:20190828T120831Z
UID:9295-1567238400-1567238400@alleganchamber.org
SUMMARY:Lobster Mania @ Village Market
DESCRIPTION:
URL:https://alleganchamber.org/event/lobster-mania-village-market-2/
LOCATION:Village Market – Allegan\, 100 Monroe St.\, Allegan\, MI\, 49010\, United States
CATEGORIES:Chamber Member Event
ATTACH;FMTTYPE=image/jpeg:https://alleganchamber.org/wp-content/uploads/2019/08/Lobster-Fest-873-8AM.jpg
END:VEVENT
BEGIN:VEVENT
DTSTART;TZID=America/Detroit:20190830T070000
DTEND;TZID=America/Detroit:20190830T070000
DTSTAMP:20260420T064129
CREATED:20190807T134353Z
LAST-MODIFIED:20190822T124824Z
UID:9341-1567148400-1567148400@alleganchamber.org
SUMMARY:Patriot Golf Day
DESCRIPTION:Honor Their Sacrifice ~ Educate their Legacy \nON FRIDAY AUGUST 30TH THE LYNX GC WILL BE HOSTING THE INAUGURAL FOLDS OF HONOR CELEBRATION & GOLF TOURNAMENT. OUR GOAL IS TO RAISE $50\,000 FOR THE FOLDS OF HONOR SCHOLARSHIP FUND FOR MILITARY FAMILIES THROUGHOUT MICHIGAN WITH SPECIAL EMPHASIS FOR WEST MICHIGAN FAMILIES. IT IS OUR HOPE TO PARTNER WITH PATRIOTS THAT SHARE THE SAME DESIRE OF HONORING THOSE THAT HAVE SERVED BY ASSISTING IN THE EDUCATION OF THEIR CHILDREN. \nClick for more information and registration. \nCorporate Partner Opportuities
URL:https://alleganchamber.org/event/patriot-golf-day/
LOCATION:LYNX Golf Course\, 900 Lincoln Road\, Otsego\, MI\, 49078\, United States
CATEGORIES:Chamber Member Event,Golf
ATTACH;FMTTYPE=image/jpeg:https://alleganchamber.org/wp-content/uploads/2019/08/Patriot-Golf-Day-2019-e1565185340248.jpg
ORGANIZER;CN="Lynx Golf Course Grill":MAILTO:grill@lynxgc.com
END:VEVENT
BEGIN:VEVENT
DTSTART;TZID=America/Detroit:20190827T140000
DTEND;TZID=America/Detroit:20190827T140000
DTSTAMP:20260420T064129
CREATED:20190801T130734Z
LAST-MODIFIED:20190815T134303Z
UID:9277-1566914400-1566914400@alleganchamber.org
SUMMARY:Stroke Awareness Seminar
DESCRIPTION:
URL:https://alleganchamber.org/event/stroke-awareness-seminar/
LOCATION:Briarwood Assisted Living & Memory Care\, 620 Ely St.\, Allegan\, MI\, 49010\, United States
CATEGORIES:Chamber Member Event
ATTACH;FMTTYPE=image/jpeg:https://alleganchamber.org/wp-content/uploads/2019/08/Stroke-Awareness-page-0-1.jpg
END:VEVENT
BEGIN:VEVENT
DTSTART;TZID=America/Detroit:20190827T083000
DTEND;TZID=America/Detroit:20190827T094500
DTSTAMP:20260420T064129
CREATED:20190814T161608Z
LAST-MODIFIED:20190814T161608Z
UID:9350-1566894600-1566899100@alleganchamber.org
SUMMARY:Going PRO in Michigan
DESCRIPTION:More information and registration
URL:https://alleganchamber.org/event/going-pro-in-michigan/
LOCATION:ACATEC: Allegan County Area Technical & Education Center\, 2891 116th Ave (M-222)\, Allegan\, MI\, 49010\, United States
CATEGORIES:Chamber Member Event
ATTACH;FMTTYPE=image/jpeg:https://alleganchamber.org/wp-content/uploads/2019/08/Talent-Fund-Info-Sessions-2019_FINAL-1.jpg
END:VEVENT
BEGIN:VEVENT
DTSTART;TZID=America/Detroit:20190825T080000
DTEND;TZID=America/Detroit:20190825T160000
DTSTAMP:20260420T064129
CREATED:20190410T173912Z
LAST-MODIFIED:20190410T173912Z
UID:8794-1566720000-1566748800@alleganchamber.org
SUMMARY:Allegan Antiques Market
DESCRIPTION:
URL:https://alleganchamber.org/event/allegan-antiques-market-5/
LOCATION:Allegan County Fairgrounds\, 150 Allegan County Fair Drive\, Allegan\, MI\, 49010\, United States
CATEGORIES:Chamber Member Event
ATTACH;FMTTYPE=image/png:https://alleganchamber.org/wp-content/uploads/2019/04/logo.png
END:VEVENT
BEGIN:VEVENT
DTSTART;TZID=America/Detroit:20190824T070000
DTEND;TZID=America/Detroit:20190824T110000
DTSTAMP:20260420T064129
CREATED:20190814T160454Z
LAST-MODIFIED:20190815T123855Z
UID:9348-1566630000-1566644400@alleganchamber.org
SUMMARY:Allegan Fire District Pancake Breakfast
DESCRIPTION:Allegan Fire District is proud to host our 3rd Annual Pancake Breakfast August 24th from 7am-11am at Allegan Fire District Station #1.  We will be serving our delicious pancakes with or without blueberries\, our amazing breakfast sausage links\, scrambled eggs\, and cubed breakfast potatoes.  Don’t forget coffee\, juice\, milk\, and water and the best part is a morning of conversation and breakfast with your Allegan Fire District Firefighters.  We are proud to be your fire department and honored to share this morning with you and your family.  The cost is a donation\, and a thank you from us to you.
URL:https://alleganchamber.org/event/allegan-fire-district-pancake-breakfast/
LOCATION:Allegan Fire District\, 300 Monroe St.\, Allegan\, MI\, 49010\, United States
ATTACH;FMTTYPE=image/jpeg:https://alleganchamber.org/wp-content/uploads/2019/08/AFD-Pancakes-2019--e1565872527791.jpg
ORGANIZER;CN="Allegan Fire District":MAILTO:nbrink@alleganfiredistrict.org
END:VEVENT
BEGIN:VEVENT
DTSTART;TZID=America/Detroit:20190823T150000
DTEND;TZID=America/Detroit:20190823T160000
DTSTAMP:20260420T064129
CREATED:20190801T191913Z
LAST-MODIFIED:20190801T191913Z
UID:9298-1566572400-1566576000@alleganchamber.org
SUMMARY:Water Balloon A Manager
DESCRIPTION:
URL:https://alleganchamber.org/event/water-balloon-a-manager/
LOCATION:Ely Manor\, 1200 Ely St\, Allegan\, MI\, 49010\, United States
CATEGORIES:Chamber Member Event
ATTACH;FMTTYPE=image/jpeg:https://alleganchamber.org/wp-content/uploads/2019/08/Water-Balloon-a-manager.jpg
END:VEVENT
BEGIN:VEVENT
DTSTART;TZID=America/Detroit:20190822T120000
DTEND;TZID=America/Detroit:20190822T174500
DTSTAMP:20260420T064130
CREATED:20190819T130014Z
LAST-MODIFIED:20190819T130014Z
UID:9386-1566475200-1566495900@alleganchamber.org
SUMMARY:Red Cross Blood Drive @ First Presbyterian Church
DESCRIPTION:First Presbyterian Church of Allegan is proud to sponsor a blood drive with the American Red Cross on Thursday\, August 22\, 2019. \nAn estimated 38 percent of Americans are eligible to give blood\, but of those\, less than 10 percent actually donate each year.  If you are healthy and eligible\, please come out to donate.  Most donations take about an hour\, so book your appointment\, roll up your sleeve and become a part of the lifesaving mission of the Red Cross and First Presbyterian. If you don’t know if you’re eligible\, show up to find out.  And\, if you can’t donate blood\, we would love to have you as a volunteer at our drive. \nPlease schedule your appointment by going to RedCrossBlood.org (sponsor code: FIRSTPRES) or call 1-800-RED CROSS (1-800-733-2767).  \nTogether we can make a great impact on the lives of many people within and beyond our community through the donation of blood. Looking forward to seeing you there! \nRev. Kathy Nealand\nPastor\, First Presbyterian Church of Allegan
URL:https://alleganchamber.org/event/red-cross-blood-drive-first-presbyterian-church/
LOCATION:First Presbyterian Church\, 200 Cutler St\, Allegan\, 49010
CATEGORIES:Chamber Member Event
ATTACH;FMTTYPE=image/jpeg:https://alleganchamber.org/wp-content/uploads/2019/08/FPC-Blood-Drive-e1566219523740.jpg
END:VEVENT
BEGIN:VEVENT
DTSTART;TZID=America/Detroit:20190819T100000
DTEND;TZID=America/Detroit:20190819T100000
DTSTAMP:20260420T064130
CREATED:20190814T165817Z
LAST-MODIFIED:20190814T165817Z
UID:9356-1566208800-1566208800@alleganchamber.org
SUMMARY:Ribbon Cutting: Betten Baker Chevrolet Buick GMC
DESCRIPTION:Join Betten Baker Chevrolet Buick GMC at 10:00 AM\, Monday\, August 19\, 2019 to help them celebrate the Grand Opening of their new showroom with an Allegan Area Chamber of Commerce Ribbon Cutting Ceremony.  General Manager\, Ryan Abraham\, wanted to “hold off a bit until the new building was done” before having a ribbon-cutting so\, beyond the grand opening\, we will seize this opportunity to welcome the Betten Baker family to Allegan.  Refreshments will be served and lenders will be on hand (just in case something catches your eye).
URL:https://alleganchamber.org/event/ribbon-cutting-betten-baker-chevrolet-buick-gmc/
LOCATION:Betten Baker Allegan\, 1255 Lincoln Rd\, Allegan\, MI\, 49010\, United States
ATTACH;FMTTYPE=image/jpeg:https://alleganchamber.org/wp-content/uploads/2019/08/BettenBakerRC.jpg
END:VEVENT
BEGIN:VEVENT
DTSTART;TZID=America/Detroit:20190817T083000
DTEND;TZID=America/Detroit:20190817T083000
DTSTAMP:20260420T064130
CREATED:20190718T122615Z
LAST-MODIFIED:20190718T133417Z
UID:9238-1566030600-1566030600@alleganchamber.org
SUMMARY:Strides for Health
DESCRIPTION:Strides for Health Sponsor Information
URL:https://alleganchamber.org/event/strides-for-health/
LOCATION:Allegan General Hospital\, 555 Linn Street\, Allegan\, MI\, 49010\, United States
CATEGORIES:Chamber Member Event
ATTACH;FMTTYPE=image/jpeg:https://alleganchamber.org/wp-content/uploads/2019/07/Strides-2019.jpg
END:VEVENT
BEGIN:VEVENT
DTSTART;VALUE=DATE:20190816
DTEND;VALUE=DATE:20190819
DTSTAMP:20260420T064130
CREATED:20190718T115233Z
LAST-MODIFIED:20190718T115644Z
UID:9229-1565913600-1566172799@alleganchamber.org
SUMMARY:Michigan Fiber Festival
DESCRIPTION:10-6pm Friday & Saturday\, 10-4pm on Sunday\n\nCome join us at the Allegan County Fair Grounds for our 23rd year.  Come shop the 100+vendors\, take a workshop\, see demonstrations of animals including dog herding\, sheep shearing\, and fiber producers such as spinning and weaving. \nLots of fiber animals you may get up close and personal with!  Watch them compete in shows.  You don’t want to miss the costume parade or the obstacle course on Sunday! \nWe have something for everyone\, workshops (held 14th – 17th) with mini-workshops (the weekend) kids activities\, live music\, the ole tractor display\, and the Historical Village!!! (Saturday & Sunday). And don’t miss the fiber competitions. \nCome take a day to learn and enjoy a part of our Michigan heritage!
URL:https://alleganchamber.org/event/michigan-fiber-festival-2/
LOCATION:Allegan County Fairgrounds\, 150 Allegan County Fair Drive\, Allegan\, MI\, 49010\, United States
ATTACH;FMTTYPE=image/png:https://alleganchamber.org/wp-content/uploads/2019/07/unnamed.png
END:VEVENT
BEGIN:VEVENT
DTSTART;TZID=America/Detroit:20190811T140000
DTEND;TZID=America/Detroit:20190811T140000
DTSTAMP:20260420T064130
CREATED:20190801T122138Z
LAST-MODIFIED:20190801T122138Z
UID:9289-1565532000-1565532000@alleganchamber.org
SUMMARY:Little Shop of Horrors
DESCRIPTION:
URL:https://alleganchamber.org/event/little-shop-of-horrors-3/
LOCATION:Griswold Auditorium\, 401 Hubbard St.\, Allegan\, MI\, 49010\, United States
CATEGORIES:Chamber Member Event
ATTACH;FMTTYPE=image/jpeg:https://alleganchamber.org/wp-content/uploads/2019/08/61423336_2267889439946974_1047146802387615744_n.jpg
END:VEVENT
END:VCALENDAR